Workbook

Sheet DISEÑO DE LA PRUEBA
A1: MATERIALES PARA PRUEBA - REFERENCIA ESTANDAR STM 2007
A2: EN ROCA DURA INTACTA
A3: GEOFONO 28 HZ | B3: 4 | C3: unds
A4: TUBO 2” X 6M | B4: 4 | C4: unds
A5: LECHADA FINA | B5: 15 | C5: Bolsas x 20 kg
A6: CABLE UTP | B6: 400 | C6: m
A8: EN ROCA MEDIA FRACTURADA
A9: GEOFONO 28 HZ | B9: 6 | C9: unds
A10: TUBO 2” X 6M | B10: 6 | C10: unds
A11: LECHADA FINA | B11: 20 | C11: Bolsas x 20 kg
A12: CABLE UTP | B12: 600 | C12: m

Sheet Prueba 01
B2: PRUEBA 01
B4: 1 | C4: DATOS DE LA PRUEBA
C6: Lugar: | D6: Mina 04 Norte | E6: Nivel 449 | F6: Tipo Roca:
C7: Fecha: | D7: 43369 | F7: MAGNETITA
B9: 2 | C9: ANALISIS DE SISMOGRAMA Y DETERMINACIÓN DE LA Vp
D11: Tiempo de Arribo | F11: Inter Arribo | G11: Distancia entre Geofonos | H11: Velocidad de Onda P
D12: Al Geofono 01 | E12: Al Geofono 02
D13: s | E13: s | F13: s | G13: m | H13: m/s
C14: Carga 01 | D14: 0.00024 | E14: 0.00073 | F14: =E14-D14 -> 0.00049 | G14: 2.05 | H14: =G14/F14 -> 4183.6735
C15: Carga 02 | D15: 0.39941 | E15: 0.3999 | F15: =E15-D15 -> 0.00049 | G15: 2.05 | H15: =G15/F15 -> 4183.6735
C16: Carga 03 | D16: 0.60596 | E16: 0.60645 | F16: =E16-D16 -> 0.00049 | G16: 2.05 | H16: =G16/F16 -> 4183.6735
G19: Vp (m/s) | H19: =AVERAGE(H14:H16) -> 4183.6735
B22: 3 | C22: CALCULO DE LA VELOCIDAD PICO PARTÍCULA CRÍTICA VPPc
C25: Velocidad de Onda P (m/s) | E25: =H19 -> 4183.6735
C26: Resistencia a la Traccion (MPa) | E26: 10
C27: Modulo de Young (GPa) | E27: 15.68
C30: VPPc(mm/s) | D30: =E26*E25/E27 -> 2668.1591
B33: 4 | C33: CRITERIO DE DAÑO
C35: 4*VPPc | D35: =4*D30 -> 10672.636 | E35: mm/s | F35: Fracturamiento Intenso
C36: 1*VPPc | D36: =1*D30 -> 2668.1591 | F36: Fracturamiento nuevo
C37: 0.24*VPPc | D37: =0.25*D30 -> 667.03978 | F37: Extension de Fracturas
B41: 5 | C41: MODELAMIENTO
C42: DETERMINACION DE LOS PARAMETROS DEL MODELO H&P
D44: Tiempo / Retardo | E44: Coordenadas de los Taladros | H44: Longitud | I44: Taco | J44: Carga | K44: VARIABLES H&P
C45: ID | E45: Este | F45: Norte | G45: Cota | J45: HA73 | K45: Ro | L45: Xo | M45: D.L. | N45: H | O45: Xs
D46: [ms] | E46: [m] | F46: [m] | G46: [m] | H46: [m] | I46: [m] | J46: [kg] | K46: [m] | L46: [m] | M46: [kg/m] | N46: [m] | O46: [m]
C47: 5 | D47: 800 | E47: 488577.85 | F47: 8319457.5 | G47: 449.4349 | H47: 13 | I47: 11 | J47: 25 | K47: =SQRT((E47-$E$51)^2+(F47-$F$51)^2) -> 5.1527613 | L47: =G47-$G$53 -> 5.8644 | M47: =J47/N47 -> 12.5 | N47: =H47-I47 -> 2 | O47: =I47 -> 11
C48: 6 | D48: 1000 | E48: 488582.05 | F48: 8319460 | G48: 449.1264 | H48: 13 | I48: 9 | J48: 50 | K48: =SQRT((E48-$E$51)^2+(F48-$F$51)^2) -> 10.040522 | L48: =G48-$G$53 -> 5.5559 | M48: =J48/N48 -> 12.5 | N48: =H48-I48 -> 4 | O48: =I48 -> 9
C49: 7 | D49: 1200 | E49: 488586.46 | F49: 8319462.2 | G49: 448.919 | H49: 13 | I49: 5 | J49: 100 | K49: =SQRT((E49-$E$51)^2+(F49-$F$51)^2) -> 14.968931 | L49: =G49-$G$53 -> 5.3485 | M49: =J49/N49 -> 12.5 | N49: =H49-I49 -> 8 | O49: =I49 -> 5
C51: Coord. Taladro con Sensor: | E51: 488573.44 | F51: 8319454.8 | G51: 449.6705
C52: Profundidad del Geófono | G52: 6.1
C53: Coordenadas del Geofono | E53: =E51 -> 488573.44 | F53: =F51 -> 8319454.8 | G53: =G51-G52 -> 443.5705
J54: AJUSTE DEL MODELO
D55: Peak de Particula | J55: Parámetros | K55: Actual | L55: Ajustado
C56: ID | D56: Radial | E56: Transversal | F56: Vertical | G56: VPP sum | H56: FACTOR | J56: K | K56: 944.59 | L56: =K56*L58/K58 -> 1259.4533
D57: [mm/s] | E57: [mm/s] | F57: [mm/s] | G57: [mm/s] | H57: HP | J57: Alfa | K57: 1.91
C58: 5 | D58: 342.51 | E58: 100 | F58: 371.26 | G58: 856.04 | H58: =(M47/K47)*((ATAN((N47+O47-L47)/K47))+ATAN((L47-O47)/K47)) -> 0.39213967 | J58: R | K58: 0.6 | L58: =L60/100 -> 0.8
C59: 6 | D59: 142.5 | E59: 45 | F59: 12.5 | G59: 159.47 | H59: =(M48/K48)*((ATAN((N48+O48-L48)/K48))+ATAN((L48-O48)/K48)) -> 0.38286721
C60: 7 | D60: 155 | E60: 55 | F60: 57.5 | G60: 174.23 | H60: =(M49/K49)*((ATAN((N49+O49-L49)/K49))+ATAN((L49-O49)/K49)) -> 0.41403431 | J60: Factor de Ajuste: | L60: 80
C62: ID | D62: Cálculos de Ajuste del Modelo
...

Sheet Prueba 02
B2: PRUEBA 02
B4: 1 | C4: DATOS DE LA PRUEBA
C6: Lugar: | D6: Mina 03 Norte | E6: Nivel 509 | F6: Tipo Roca:
C7: Fecha: | D7: 43375 | F7: ANDESITA
B9: 2 | C9: ANALISIS DE SISMOGRAMA Y DETERMINACIÓN DE LA Vp
D11: Tiempo de Arribo | F11: Inter Arribo | G11: Distancia entre Geofonos | H11: Velocidad de Onda P
D12: Al Geofono 01 | E12: Al Geofono 02
D13: s | E13: s | F13: s | G13: m | H13: m/s
C14: Carga 01 | D14: 0 | E14: 0.0005 | F14: =E14-D14 -> 0.0005 | G14: 2.05 | H14: =G14/F14 -> 4100
C15: Carga 02 | D15: 0.39429 | E15: 0.3948 | F15: =E15-D15 -> 0.00051 | G15: 2.05 | H15: =G15/F15 -> 4019.6078
C16: Carga 03 | D16: 0.58618 | E16: 0.58667 | F16: =E16-D16 -> 0.00049 | G16: 2.05 | H16: =G16/F16 -> 4183.6735
G19: Vp (m/s) | H19: =AVERAGE(H14:H16) -> 4101.0938
B22: 3 | C22: CALCULO DE LA VELOCIDAD PICO PARTÍCULA CRÍTICA VPPc
C25: Velocidad de Onda P (m/s) | E25: =H19 -> 4101.0938
C26: Resistencia a la Traccion (MPa) | E26: 17.42
C27: Modulo de Young (GPa) | E27: 15.65
C30: VPPc(mm/s) | D30: =E26*E25/E27 -> 4564.9235
B33: 4 | C33: CRITERIO DE DAÑO
C35: 4*VPPc | D35: =4*D30 -> 18259.694 | E35: mm/s | F35: Fracturamiento Intenso
C36: 1*VPPc | D36: =1*D30 -> 4564.9235 | F36: Fracturamiento nuevo
C37: 0.24*VPPc | D37: =0.25*D30 -> 1141.2309 | F37: Extension de Fracturas
B41: 5 | C41: MODELAMIENTO
C42: DETERMINACION DE LOS PARAMETROS DEL MODELO H&P
D44: Tiempo / Retardo | E44: Coordenadas de los Taladros | H44: Longitud | I44: Taco | J44: Carga | K44: VARIABLES H&P
C45: ID | E45: Este | F45: Norte | G45: Cota | J45: HA73 | K45: Ro | L45: Xo | M45: D.L. | N45: H | O45: Xs
D46: [ms] | E46: [m] | F46: [m] | G46: [m] | H46: [m] | I46: [m] | J46: [kg] | K46: [m] | L46: [m] | M46: [kg/m] | N46: [m] | O46: [m]
E47: 487763.2 | F47: 8318950 | G47: 509 | H47: 13 | I47: 11 | J47: 25 | K47: =SQRT((E47-$E$51)^2+(F47-$F$51)^2) -> 5.0273099 | L47: =G47-$G$53 -> 6.1 | M47: =J47/N47 -> 12.5 | N47: =H47-I47 -> 2 | O47: =I47 -> 11
E48: 487760.4 | F48: 8318946 | G48: 509 | H48: 13 | I48: 9 | J48: 50 | K48: =SQRT((E48-$E$51)^2+(F48-$F$51)^2) -> 9.8975272 | L48: =G48-$G$53 -> 6.1 | M48: =J48/N48 -> 12.5 | N48: =H48-I48 -> 4 | O48: =I48 -> 9
E49: 487758.2 | F49: 8318941 | G49: 509 | H49: 13 | I49: 5 | J49: 100 | K49: =SQRT((E49-$E$51)^2+(F49-$F$51)^2) -> 15.322919 | L49: =G49-$G$53 -> 6.1 | M49: =J49/N49 -> 12.5 | N49: =H49-I49 -> 8 | O49: =I49 -> 5
C51: Coord. Taladro con Sensor: | E51: 487765.66 | F51: 8318954.4 | G51: 509
C52: Profundidad del Geófono | G52: 6.1
C53: Coordenadas del Geofono | E53: =E51 -> 487765.66 | F53: =F51 -> 8318954.4 | G53: =G51-G52 -> 502.9
J54: AJUSTE DEL MODELO
D55: Peak de Particula | J55: Parámetros | K55: Actual | L55: Ajustado
C56: ID | D56: Radial | E56: Transversal | F56: Vertical | G56: VPP sum | H56: FACTOR | J56: K | K56: 754 | L56: =K56*L58/K58 -> 6032
D57: [mm/s] | E57: [mm/s] | F57: [mm/s] | G57: [mm/s] | H57: HP | J57: Alfa | K57: 1.05
G58: 329.36 | H58: =(M47/K47)*((ATAN((N47+O47-L47)/K47))+ATAN((L47-O47)/K47)) -> 0.4191125 | J58: R | K58: 0.1 | L58: =L60/100 -> 0.8
G59: 229.79 | H59: =(M48/K48)*((ATAN((N48+O48-L48)/K48))+ATAN((L48-O48)/K48)) -> 0.40891747
G60: 341.77 | H60: =(M49/K49)*((ATAN((N49+O49-L49)/K49))+ATAN((L49-O49)/K49)) -> 0.40362185 | J60: Factor de Ajuste: | L60: 80
C62: ID | D62: Cálculos de Ajuste del Modelo
...

Sheet Prueba 03
B2: PRUEBA 03
B4: 1 | C4: DATOS DE LA PRUEBA
C6: Lugar: | D6: Mina 02 Norte | E6: Nivel 557 | F6: Tipo Roca:
C7: Fecha: | D7: 43375 | F7: ANDESITA
B9: 2 | C9: ANALISIS DE SISMOGRAMA Y DETERMINACIÓN DE LA Vp
D11: Tiempo de Arribo | F11: Inter Arribo | G11: Distancia entre Geofonos | H11: Velocidad de Onda P
D12: Al Geofono 01 | E12: Al Geofono 02
D13: s | E13: s | F13: s | G13: m | H13: m/s
C14: Carga 01 | D14: 0 | E14: 0.00098 | F14: =E14-D14 -> 0.00098 | G14: 5 | H14: =G14/F14 -> 5102.0408
C15: Carga 02 | D15: 0.33008 | E15: 0.33252 | F15: =E15-D15 -> 0.00244 | G15: 5 | H15: =G15/F15 -> 2049.1803
C16: Carga 03 | D16: 0.42383 | E16: 0.42578 | F16: =E16-D16 -> 0.00195 | G16: 5 | H16: =G16/F16 -> 2564.1026
G19: Vp (m/s) | H19: =AVERAGE(H14:H16) -> 3238.4412
B22: 3 | C22: CALCULO DE LA VELOCIDAD PICO PARTÍCULA CRÍTICA VPPc
C25: Velocidad de Onda P (m/s) | E25: =H19 -> 3238.4412
C26: Resistencia a la Traccion (MPa) | E26: 15.51
C27: Modulo de Young (GPa) | E27: 13.64
C30: VPPc(mm/s) | D30: =E26*E25/E27 -> 3682.4211
B33: 4 | C33: CRITERIO DE DAÑO
C35: 4*VPPc | D35: =4*D30 -> 14729.684 | E35: mm/s | F35: Fracturamiento Intenso
C36: 1*VPPc | D36: =1*D30 -> 3682.4211 | F36: Fracturamiento nuevo
C37: 0.24*VPPc | D37: =0.25*D30 -> 920.60527 | F37: Extension de Fracturas
B41: 5 | C41: MODELAMIENTO
C42: DETERMINACION DE LOS PARAMETROS DEL MODELO H&P
D44: Tiempo / Retardo | E44: Coordenadas de los Taladros | H44: Longitud | I44: Taco | J44: Carga | K44: VARIABLES H&P
C45: ID | E45: Este | F45: Norte | G45: Cota | J45: HA73 | K45: Ro | L45: Xo | M45: D.L. | N45: H | O45: Xs
D46: [ms] | E46: [m] | F46: [m] | G46: [m] | H46: [m] | I46: [m] | J46: [kg] | K46: [m] | L46: [m] | M46: [kg/m] | N46: [m] | O46: [m]
E47: 487402.1 | F47: 8318709 | G47: 557 | H47: 13 | I47: 5 | J47: 100 | K47: =SQRT((E47-$E$51)^2+(F47-$F$51)^2) -> 5.0212175 | L47: =G47-$G$53 -> 6.1 | M47: =J47/N47 -> 12.5 | N47: =H47-I47 -> 8 | O47: =I47 -> 5
E48: 487397.7 | F48: 8318707 | G48: 557 | H48: 13 | I48: 5 | J48: 100 | K48: =SQRT((E48-$E$51)^2+(F48-$F$51)^2) -> 9.8501079 | L48: =G48-$G$53 -> 6.1 | M48: =J48/N48 -> 12.5 | N48: =H48-I48 -> 8 | O48: =I48 -> 5
E49: 487393.1 | F49: 8318705 | G49: 557 | H49: 13 | I49: 5 | J49: 100 | K49: =SQRT((E49-$E$51)^2+(F49-$F$51)^2) -> 14.862457 | L49: =G49-$G$53 -> 6.1 | M49: =J49/N49 -> 12.5 | N49: =H49-I49 -> 8 | O49: =I49 -> 5
C51: Coord. Taladro con Sensor: | E51: 487406.54 | F51: 8318711.3 | G51: 557
C52: Profundidad del Geófono | G52: 6.1
C53: Coordenadas del Geofono | E53: =E51 -> 487406.54 | F53: =F51 -> 8318711.3 | G53: =G51-G52 -> 550.9
J54: AJUSTE DEL MODELO
D55: Peak de Particula | J55: Parámetros | K55: Actual | L55: Ajustado
C56: ID | D56: Radial | E56: Transversal | F56: Vertical | G56: VPP sum | H56: FACTOR | J56: K | K56: 452 | L56: =K56*L58/K58 -> 401.77778
D57: [mm/s] | E57: [mm/s] | F57: [mm/s] | G57: [mm/s] | H57: HP | J57: Alfa | K57: 1.4
G58: 2047.6723 | H58: =(M47/K47)*((ATAN((N47+O47-L47)/K47))+ATAN((L47-O47)/K47)) -> 2.881213 | J58: R | K58: 0.9 | L58: =L60/100 -> 0.8
G59: 464 | H59: =(M48/K48)*((ATAN((N48+O48-L48)/K48))+ATAN((L48-O48)/K48)) -> 0.91658201
G60: 117.08 | H60: =(M49/K49)*((ATAN((N49+O49-L49)/K49))+ATAN((L49-O49)/K49)) -> 0.42769166 | J60: Factor de Ajuste: | L60: 80
C62: ID | D62: Cálculos de Ajuste del Modelo
...

Sheet Hoja4
A1: L | B1: E | C1: N
A2: 1 | B2: 487763.2 | C2: 8318950
A3: 2 | B3: 487760.4 | C3: 8318946
A4: 3 | B4: 487758.2 | C4: 8318941
F12: 487763.2 | G12: 8318950
F13: 487760.4 | G13: 8318946
F14: 487758.2 | G14: 8318941

Sheet ANEXOS 01
B2: ANEXO 01
B4: ANALISIS DE ONDAS PRUEBA 01
B5: Tiempo: | D5: 0.00024 | E5: 0.00073 | H5: Tiempo: | I5: 0.39941 | J5: 0.3999 | N5: Tiempo: | O5: 0.60596 | P5: 0.60645
B20: ANALISIS DE ONDAS PRUEBA 02
B21: Tiempo: | C21: 0 | D21: 0.0005 | H21: Tiempo: | I21: 0.39429 | J21: 0.3948
B38: ANALISIS DE ONDAS PRUEBA 03

Sheet ANEXOS 04
B2: PROPIEDADES GEOMECANICAS

Sheet ABACO PPV-DIST
A1: Simulacion de Vibraciones Utilizando Modelo de Homlberg & Persson
A2: DISEÑO | U2: PPV Vs DISTANCIA@890 kg | AB2: =D48 -> 889.64217 | AC2: Kg | AE2: PPV Vs DISTANCIA@495 kg | AL2: 495 kg | AO2: PPV Vs DISTANCIA@297 kg | AV2: 297 kg | AY2: PPV Vs DISTANCIA@99 kg | BF2: 99 kg
A4: Diámetro | B4: Longitud | C4: Taco | D4: Explosivo | E4: Densidad | F4: Carga Lineal | G4: Carga/Tal | H4: K | I4: Alfa | U4: Ro | V4: Xo | W4: Xs | X4: H | Y4: Kg/m | Z4: HP | AA4: PPV | AB4: PPVc | AC4: PPVc / 4 | AE4: Ro | AF4: Xo | AG4: Xs | AH4: H | AI4: Kg/m | AJ4: HP | AK4: PPV | AL4: PPVc | AM4: PPVc / 4 | AO4: Ro | AP4: Xo | AQ4: Xs | AR4: H | AS4: Kg/m | AT4: HP | AU4: PPV | AV4: PPVc | AW4: PPVc / 4 | AY4: Ro | AZ4: Xo | BA4: Xs | BB4: H | BC4: Kg/m | BD4: HP | BE4: PPV | BF4: PPVc | BG4: PPVc / 4
A5: [pulg] | B5: [m] | C5: [m] | E5: [g/t] | F5: [kg/m] | G5: [kg] | U5: 1 | V5: =X5/2+W5 -> 8 | W5: =$C$6 -> 3.5 | X5: =D47 -> 9 | Y5: =$F$6 -> 98.84913 | Z5: =(Y5/U5)*((ATAN((X5+W5-V5)/U5)+ATAN(V5-W5)/U5)) -> 267.31323 | AA5: =$H$6*Z5^$I$6 -> 40818065 | AB5: =$B$8 -> 667.03978 | AC5: =AB5/4 -> 166.75994 | AE5: 1 | AF5: =AH5/2+AG5 -> 10 | AG5: =$B$6-AH5 -> 7.5 | AH5: 5 | AI5: =$F$6 -> 98.84913 | AJ5: =(AI5/AE5)*((ATAN((AH5+AG5-AF5)/AE5)+ATAN(AF5-AG5)/AE5)) -> 235.31825 | AK5: =$H$6*AJ5^$I$6 -> 31996728 | AL5: =$B$8 -> 667.03978 | AM5: =AL5/4 -> 166.75994 | AO5: 1 | AP5: =AR5/2+AQ5 -> 5 | AQ5: =$C$6 -> 3.5 | AR5: 3 | AS5: =$F$6 -> 98.84913 | AT5: =(AS5/AO5)*((ATAN((AR5+AQ5-AP5)/AO5)+ATAN(AP5-AQ5)/AO5)) -> 194.29661 | AU5: =$H$6*AT5^$I$6 -> 22192791 | AV5: =$B$8 -> 667.03978 | AW5: =AV5/4 -> 166.75994 | AY5: 1 | AZ5: =BB5/2+BA5 -> 12 | BA5: =$B$6-BB5 -> 11.5 | BB5: 1 | BC5: =$F$6 -> 98.84913 | BD5: =(BC5/AY5)*((ATAN((BB5+BA5-AZ5)/AY5)+ATAN(AZ5-BA5)/AY5)) -> 91.662325 | BE5: =$H$6*BD5^$I$6 -> 5284792.1 | BF5: =$B$8 -> 667.03978 | BG5: =BF5/4 -> 166.75994
A6: ='Prueba 01'!E71 -> 12.25 | B6: ='Prueba 01'!E72 -> 12.5 | C6: ='Prueba 01'!E73 -> 3.5 | D6: HA 55 | E6: ='Prueba 01'!E75 -> 1.3 | F6: =(A6*2.54/10)^2/4*3.1415927*10*E6 -> 98.84913 | G6: =F6*(B6-C6) -> 889.64217 | H6: ='Prueba 01'!E78 -> 944.59 | I6: ='Prueba 01'!K57 -> 1.91 | U6: 2 | V6: =X5/2+W5 -> 8 | W6: =$C$6 -> 3.5 | X6: =X5 -> 9 | Y6: =$F$6 -> 98.84913 | Z6: =(Y6/U6)*((ATAN((X6+W6-V6)/U6)+ATAN(V6-W6)/U6)) -> 90.379523 | AA6: =$H$6*Z6^$I$6 -> 5144428.5 | AB6: =$B$8 -> 667.03978 | AC6: =AB6/4 -> 166.75994 | AE6: 2 | AF6: =AH5/2+AG5 -> 10 | AG6: =$B$6-AH6 -> 7.5 | AH6: 5 | AI6: =$F$6 -> 98.84913 | AJ6: =(AI6/AE6)*((ATAN((AH6+AG6-AF6)/AE6)+ATAN(AF6-AG6)/AE6)) -> 73.701929 | AK6: =$H$6*AJ6^$I$6 -> 3484399.6 | AL6: =$B$8 -> 667.03978 | AM6: =AL6/4 -> 166.75994 | AO6: 2 | AP6: =AR5/2+AQ5 -> 5 | AQ6: =$C$6 -> 3.5 | AR6: 3 | AS6: =$F$6 -> 98.84913 | AT6: =(AS6/AO6)*((ATAN((AR6+AQ6-AP6)/AO6)+ATAN(AP6-AQ6)/AO6)) -> 56.091838 | AU6: =$H$6*AT6^$I$6 -> 2068434.3 | AV6: =$B$8 -> 667.03978 | AW6: =AV6/4 -> 166.75994 | AY6: 2 | AZ6: =BB5/2+BA5 -> 12 | BA6: =$B$6-BB6 -> 11.5 | BB6: 1 | BC6: =$F$6 -> 98.84913 | BD6: =(BC6/AY6)*((ATAN((BB6+BA6-AZ6)/AY6)+ATAN(AZ6-BA6)/AY6)) -> 23.565755 | BE6: =$H$6*BD6^$I$6 -> 394730.53 | BF6: =$B$8 -> 667.03978 | BG6: =BF6/4 -> 166.75994
U7: 3 | V7: =X6/2+W6 -> 8 | W7: =$C$6 -> 3.5 | X7: =X6 -> 9 | Y7: =$F$6 -> 98.84913 | Z7: =(Y7/U7)*((ATAN((X7+W7-V7)/U7)+ATAN(V7-W7)/U7)) -> 47.233503 | AA7: =$H$6*Z7^$I$6 -> 1489570.8 | AB7: =$B$8 -> 667.03978 | AC7: =AB7/4 -> 166.75994 | AE7: 3 | AF7: =AH6/2+AG6 -> 10 | AG7: =$B$6-AH7 -> 7.5 | AH7: 5 | AI7: =$F$6 -> 98.84913 | AJ7: =(AI7/AE7)*((ATAN((AH7+AG7-AF7)/AE7)+ATAN(AF7-AG7)/AE7)) -> 35.964661 | AK7: =$H$6*AJ7^$I$6 -> 885047.23 | AL7: =$B$8 -> 667.03978 | AM7: =AL7/4 -> 166.75994 | AO7: 3 | AP7: =AR6/2+AQ6 -> 5 | AQ7: =$C$6 -> 3.5 | AR7: 3 | AS7: =$F$6 -> 98.84913 | AT7: =(AS7/AO7)*((ATAN((AR7+AQ7-AP7)/AO7)+ATAN(AP7-AQ7)/AO7)) -> 26.07131 | AU7: =$H$6*AT7^$I$6 -> 478756.19 | AV7: =$B$8 -> 667.03978 | AW7: =AV7/4 -> 166.75994 | AY7: 3 | AZ7: =BB6/2+BA6 -> 12 | BA7: =$B$6-BB7 -> 11.5 | BB7: 1 | BC7: =$F$6 -> 98.84913 | BD7: =(BC7/AY7)*((ATAN((BB7+BA7-AZ7)/AY7)+ATAN(AZ7-BA7)/AY7)) -> 10.533952 | BE7: =$H$6*BD7^$I$6 -> 84799.409 | BF7: =$B$8 -> 667.03978 | BG7: =BF7/4 -> 166.75994
A8: PPV critico | B8: ='Prueba 01'!L72 -> 667.03978 | D8: σtraccion | F8: E | U8: 4 | V8: =X7/2+W7 -> 8 | W8: =$C$6 -> 3.5 | X8: =X7 -> 9 | Y8: =$F$6 -> 98.84913 | Z8: =(Y8/U8)*((ATAN((X8+W8-V8)/U8)+ATAN(V8-W8)/U8)) -> 29.21451 | AA8: =$H$6*Z8^$I$6 -> 595027.02 | AB8: =$B$8 -> 667.03978 | AC8: =AB8/4 -> 166.75994 | AE8: 4 | AF8: =AH7/2+AG7 -> 10 | AG8: =$B$6-AH8 -> 7.5 | AH8: 5 | AI8: =$F$6 -> 98.84913 | AJ8: =(AI8/AE8)*((ATAN((AH8+AG8-AF8)/AE8)+ATAN(AF8-AG8)/AE8)) -> 21.157959 | AK8: =$H$6*AJ8^$I$6 -> 321290.78 | AL8: =$B$8 -> 667.03978 | AM8: =AL8/4 -> 166.75994 | AO8: 4 | AP8: =AR7/2+AQ7 -> 5 | AQ8: =$C$6 -> 3.5 | AR8: 3 | AS8: =$F$6 -> 98.84913 | AT8: =(AS8/AO8)*((ATAN((AR8+AQ8-AP8)/AO8)+ATAN(AP8-AQ8)/AO8)) -> 14.937811 | AU8: =$H$6*AT8^$I$6 -> 165246.19 | AV8: =$B$8 -> 667.03978 | AW8: =AV8/4 -> 166.75994 | AY8: 4 | AZ8: =BB7/2+BA7 -> 12 | BA8: =$B$6-BB8 -> 11.5 | BB8: 1 | BC8: =$F$6 -> 98.84913 | BD8: =(BC8/AY8)*((ATAN((BB8+BA8-AZ8)/AY8)+ATAN(AZ8-BA8)/AY8)) -> 5.9375434 | BE8: =$H$6*BD8^$I$6 -> 28368.236 | BF8: =$B$8 -> 667.03978 | BG8: =BF8/4 -> 166.75994
U9: 5 | V9: =X8/2+W8 -> 8 | W9: =$C$6 -> 3.5 | X9: =X8 -> 9 | Y9: =$F$6 -> 98.84913 | Z9: =(Y9/U9)*((ATAN((X9+W9-V9)/U9)+ATAN(V9-W9)/U9)) -> 19.833892 | AA9: =$H$6*Z9^$I$6 -> 283983.1 | AB9: =$B$8 -> 667.03978 | AC9: =AB9/4 -> 166.75994 | AE9: 5 | AF9: =AH8/2+AG8 -> 10 | AG9: =$B$6-AH9 -> 7.5 | AH9: 5 | AI9: =$F$6 -> 98.84913 | AJ9: =(AI9/AE9)*((ATAN((AH9+AG9-AF9)/AE9)+ATAN(AF9-AG9)/AE9)) -> 13.872598 | AK9: =$H$6*AJ9^$I$6 -> 143471.2 | AL9: =$B$8 -> 667.03978 | AM9: =AL9/4 -> 166.75994 | AO9: 5 | AP9: =AR8/2+AQ8 -> 5 | AQ9: =$C$6 -> 3.5 | AR9: 3 | AS9: =$F$6 -> 98.84913 | AT9: =(AS9/AO9)*((ATAN((AR9+AQ9-AP9)/AO9)+ATAN(AP9-AQ9)/AO9)) -> 9.6479823 | AU9: =$H$6*AT9^$I$6 -> 71699.653 | AV9: =$B$8 -> 667.03978 | AW9: =AV9/4 -> 166.75994 | AY9: 5 | AZ9: =BB8/2+BA8 -> 12 | BA9: =$B$6-BB9 -> 11.5 | BB9: 1 | BC9: =$F$6 -> 98.84913 | BD9: =(BC9/AY9)*((ATAN((BB9+BA9-AZ9)/AY9)+ATAN(AZ9-BA9)/AY9)) -> 3.8036784 | BE9: =$H$6*BD9^$I$6 -> 12118.046 | BF9: =$B$8 -> 667.03978 | BG9: =BF9/4 -> 166.75994
U10: 6 | V10: =X9/2+W9 -> 8 | W10: =$C$6 -> 3.5 | X10: =X9 -> 9 | Y10: =$F$6 -> 98.84913 | Z10: =(Y10/U10)*((ATAN((X10+W10-V10)/U10)+ATAN(V10-W10)/U10)) -> 14.314271 | AA10: =$H$6*Z10^$I$6 -> 152321.99 | AB10: =$B$8 -> 667.03978 | AC10: =AB10/4 -> 166.75994 | AE10: 6 | AF10: =AH9/2+AG9 -> 10 | AG10: =$B$6-AH10 -> 7.5 | AH10: 5 | AI10: =$F$6 -> 98.84913 | AJ10: =(AI10/AE10)*((ATAN((AH10+AG10-AF10)/AE10)+ATAN(AF10-AG10)/AE10)) -> 9.7724355 | AK10: =$H$6*AJ10^$I$6 -> 73476.543 | AL10: =$B$8 -> 667.03978 | AM10: =AL10/4 -> 166.75994 | AO10: 6 | AP10: =AR9/2+AQ9 -> 5 | AQ10: =$C$6 -> 3.5 | AR10: 3 | AS10: =$F$6 -> 98.84913 | AT10: =(AS10/AO10)*((ATAN((AR10+AQ10-AP10)/AO10)+ATAN(AP10-AQ10)/AO10)) -> 6.734552 | AU10: =$H$6*AT10^$I$6 -> 36083.859 | AV10: =$B$8 -> 667.03978 | AW10: =AV10/4 -> 166.75994 | AY10: 6 | AZ10: =BB9/2+BA9 -> 12 | BA10: =$B$6-BB10 -> 11.5 | BB10: 1 | BC10: =$F$6 -> 98.84913 | BD10: =(BC10/AY10)*((ATAN((BB10+BA10-AZ10)/AY10)+ATAN(AZ10-BA10)/AY10)) -> 2.6428276 | BE10: =$H$6*BD10^$I$6 -> 6044.9792 | BF10: =$B$8 -> 667.03978 | BG10: =BF10/4 -> 166.75994
U11: 7 | V11: =X10/2+W10 -> 8 | W11: =$C$6 -> 3.5 | X11: =X10 -> 9 | Y11: =$F$6 -> 98.84913 | Z11: =(Y11/U11)*((ATAN((X11+W11-V11)/U11)+ATAN(V11-W11)/U11)) -> 10.795716 | AA11: =$H$6*Z11^$I$6 -> 88869.686 | AB11: =$B$8 -> 667.03978 | AC11: =AB11/4 -> 166.75994 | AE11: 7 | AF11: =AH10/2+AG10 -> 10 | AG11: =$B$6-AH11 -> 7.5 | AH11: 5 | AI11: =$F$6 -> 98.84913 | AJ11: =(AI11/AE11)*((ATAN((AH11+AG11-AF11)/AE11)+ATAN(AF11-AG11)/AE11)) -> 7.2451521 | AK11: =$H$6*AJ11^$I$6 -> 41489.106 | AL11: =$B$8 -> 667.03978 | AM11: =AL11/4 -> 166.75994 | AO11: 7 | AP11: =AR10/2+AQ10 -> 5 | AQ11: =$C$6 -> 3.5 | AR11: 3 | AS11: =$F$6 -> 98.84913 | AT11: =(AS11/AO11)*((ATAN((AR11+AQ11-AP11)/AO11)+ATAN(AP11-AQ11)/AO11)) -> 4.9635316 | AU11: =$H$6*AT11^$I$6 -> 20146.693 | AV11: =$B$8 -> 667.03978 | AW11: =AV11/4 -> 166.75994 | AY11: 7 | AZ11: =BB10/2+BA10 -> 12 | BA11: =$B$6-BB11 -> 11.5 | BB11: 1 | BC11: =$F$6 -> 98.84913 | BD11: =(BC11/AY11)*((ATAN((BB11+BA11-AZ11)/AY11)+ATAN(AZ11-BA11)/AY11)) -> 1.9422843 | BE11: =$H$6*BD11^$I$6 -> 3356.7637 | BF11: =$B$8 -> 667.03978 | BG11: =BF11/4 -> 166.75994
U12: 8 | V12: =X11/2+W11 -> 8 | W12: =$C$6 -> 3.5 | X12: =X11 -> 9 | Y12: =$F$6 -> 98.84913 | Z12: =(Y12/U12)*((ATAN((X12+W12-V12)/U12)+ATAN(V12-W12)/U12)) -> 8.4195411 | AA12: =$H$6*Z12^$I$6 -> 55276.97 | AB12: =$B$8 -> 667.03978 | AC12: =AB12/4 -> 166.75994 | AE12: 8 | AF12: =AH11/2+AG11 -> 10 | AG12: =$B$6-AH12 -> 7.5 | AH12: 5 | AI12: =$F$6 -> 98.84913 | AJ12: =(AI12/AE12)*((ATAN((AH12+AG12-AF12)/AE12)+ATAN(AF12-AG12)/AE12)) -> 5.5809121 | AK12: =$H$6*AJ12^$I$6 -> 25202.884 | AL12: =$B$8 -> 667.03978 | AM12: =AL12/4 -> 166.75994 | AO12: 8 | AP12: =AR11/2+AQ11 -> 5 | AQ12: =$C$6 -> 3.5 | AR12: 3 | AS12: =$F$6 -> 98.84913 | AT12: =(AS12/AO12)*((ATAN((AR12+AQ12-AP12)/AO12)+ATAN(AP12-AQ12)/AO12)) -> 3.8081277 | AU12: =$H$6*AT12^$I$6 -> 12145.134 | AV12: =$B$8 -> 667.03978 | AW12: =AV12/4 -> 166.75994 | AY12: 8 | AZ12: =BB11/2+BA11 -> 12 | BA12: =$B$6-BB12 -> 11.5 | BB12: 1 | BC12: =$F$6 -> 98.84913 | BD12: =(BC12/AY12)*((ATAN((BB12+BA12-AZ12)/AY12)+ATAN(AZ12-BA12)/AY12)) -> 1.4873675 | BE12: =$H$6*BD12^$I$6 -> 2016.3332 | BF12: =$B$8 -> 667.03978 | BG12: =BF12/4 -> 166.75994
U13: 9 | V13: =X12/2+W12 -> 8 | W13: =$C$6 -> 3.5 | X13: =X12 -> 9 | Y13: =$F$6 -> 98.84913 | Z13: =(Y13/U13)*((ATAN((X13+W13-V13)/U13)+ATAN(V13-W13)/U13)) -> 6.7424331 | AA13: =$H$6*Z13^$I$6 -> 36164.556 | AB13: =$B$8 -> 667.03978 | AC13: =AB13/4 -> 166.75994 | AE13: 9 | AF13: =AH12/2+AG12 -> 10 | AG13: =$B$6-AH13 -> 7.5 | AH13: 5 | AI13: =$F$6 -> 98.84913 | AJ13: =(AI13/AE13)*((ATAN((AH13+AG13-AF13)/AE13)+ATAN(AF13-AG13)/AE13)) -> 4.4284552 | AK13: =$H$6*AJ13^$I$6 -> 16202.616 | AL13: =$B$8 -> 667.03978 | AM13: =AL13/4 -> 166.75994 | AO13: 9 | AP13: =AR12/2+AQ12 -> 5 | AQ13: =$C$6 -> 3.5 | AR13: 3 | AS13: =$F$6 -> 98.84913 | AT13: =(AS13/AO13)*((ATAN((AR13+AQ13-AP13)/AO13)+ATAN(AP13-AQ13)/AO13)) -> 3.0132288 | AU13: =$H$6*AT13^$I$6 -> 7765.9514 | AV13: =$B$8 -> 667.03978 | AW13: =AV13/4 -> 166.75994 | AY13: 9 | AZ13: =BB12/2+BA12 -> 12 | BA13: =$B$6-BB13 -> 11.5 | BB13: 1 | BC13: =$F$6 -> 98.84913 | BD13: =(BC13/AY13)*((ATAN((BB13+BA13-AZ13)/AY13)+ATAN(AZ13-BA13)/AY13)) -> 1.17537 | BE13: =$H$6*BD13^$I$6 -> 1286.1063 | BF13: =$B$8 -> 667.03978 | BG13: =BF13/4 -> 166.75994
U14: 10 | V14: =X13/2+W13 -> 8 | W14: =$C$6 -> 3.5 | X14: =X13 -> 9 | Y14: =$F$6 -> 98.84913 | Z14: =(Y14/U14)*((ATAN((X14+W14-V14)/U14)+ATAN(V14-W14)/U14)) -> 5.5164404 | AA14: =$H$6*Z14^$I$6 -> 24649.715 | AB14: =$B$8 -> 667.03978 | AC14: =AB14/4 -> 166.75994 | AE14: 10 | AF14: =AH13/2+AG13 -> 10 | AG14: =$B$6-AH14 -> 7.5 | AH14: 5 | AI14: =$F$6 -> 98.84913 | AJ14: =(AI14/AE14)*((ATAN((AH14+AG14-AF14)/AE14)+ATAN(AF14-AG14)/AE14)) -> 3.598184 | AK14: =$H$6*AJ14^$I$6 -> 10898.396 | AL14: =$B$8 -> 667.03978 | AM14: =AL14/4 -> 166.75994 | AO14: 10 | AP14: =AR13/2+AQ13 -> 5 | AQ14: =$C$6 -> 3.5 | AR14: 3 | AS14: =$F$6 -> 98.84913 | AT14: =(AS14/AO14)*((ATAN((AR14+AQ14-AP14)/AO14)+ATAN(AP14-AQ14)/AO14)) -> 2.4432472 | AU14: =$H$6*AT14^$I$6 -> 5203.0872 | AV14: =$B$8 -> 667.03978 | AW14: =AV14/4 -> 166.75994 | AY14: 10 | AZ14: =BB13/2+BA13 -> 12 | BA14: =$B$6-BB14 -> 11.5 | BB14: 1 | BC14: =$F$6 -> 98.84913 | BD14: =(BC14/AY14)*((ATAN((BB14+BA14-AZ14)/AY14)+ATAN(AZ14-BA14)/AY14)) -> 0.95214602 | BE14: =$H$6*BD14^$I$6 -> 860.13603 | BF14: =$B$8 -> 667.03978 | BG14: =BF14/4 -> 166.75994
U15: 11 | V15: =X14/2+W14 -> 8 | W15: =$C$6 -> 3.5 | X15: =X14 -> 9 | Y15: =$F$6 -> 98.84913 | Z15: =(Y15/U15)*((ATAN((X15+W15-V15)/U15)+ATAN(V15-W15)/U15)) -> 4.5941426 | AA15: =$H$6*Z15^$I$6 -> 17380.165 | AB15: =$B$8 -> 667.03978 | AC15: =AB15/4 -> 166.75994 | AE15: 11 | AF15: =AH14/2+AG14 -> 10 | AG15: =$B$6-AH15 -> 7.5 | AH15: 5 | AI15: =$F$6 -> 98.84913 | AJ15: =(AI15/AE15)*((ATAN((AH15+AG15-AF15)/AE15)+ATAN(AF15-AG15)/AE15)) -> 2.9806138 | AK15: =$H$6*AJ15^$I$6 -> 7606.1913 | AL15: =$B$8 -> 667.03978 | AM15: =AL15/4 -> 166.75994 | AO15: 11 | AP15: =AR14/2+AQ14 -> 5 | AQ15: =$C$6 -> 3.5 | AR15: 3 | AS15: =$F$6 -> 98.84913 | AT15: =(AS15/AO15)*((ATAN((AR15+AQ15-AP15)/AO15)+ATAN(AP15-AQ15)/AO15)) -> 2.0207691 | AU15: =$H$6*AT15^$I$6 -> 3620.5975 | AV15: =$B$8 -> 667.03978 | AW15: =AV15/4 -> 166.75994 | AY15: 11 | AZ15: =BB14/2+BA14 -> 12 | BA15: =$B$6-BB15 -> 11.5 | BB15: 1 | BC15: =$F$6 -> 98.84913 | BD15: =(BC15/AY15)*((ATAN((BB15+BA15-AZ15)/AY15)+ATAN(AZ15-BA15)/AY15)) -> 0.78695645 | BE15: =$H$6*BD15^$I$6 -> 597.73568 | BF15: =$B$8 -> 667.03978 | BG15: =BF15/4 -> 166.75994
U16: 12 | V16: =X15/2+W15 -> 8 | W16: =$C$6 -> 3.5 | X16: =X15 -> 9 | Y16: =$F$6 -> 98.84913 | Z16: =(Y16/U16)*((ATAN((X16+W16-V16)/U16)+ATAN(V16-W16)/U16)) -> 3.8835183 | AA16: =$H$6*Z16^$I$6 -> 12608.51 | AB16: =$B$8 -> 667.03978 | AC16: =AB16/4 -> 166.75994 | AE16: 12 | AF16: =AH15/2+AG15 -> 10 | AG16: =$B$6-AH16 -> 7.5 | AH16: 5 | AI16: =$F$6 -> 98.84913 | AJ16: =(AI16/AE16)*((ATAN((AH16+AG16-AF16)/AE16)+ATAN(AF16-AG16)/AE16)) -> 2.5090069 | AK16: =$H$6*AJ16^$I$6 -> 5473.8373 | AL16: =$B$8 -> 667.03978 | AM16: =AL16/4 -> 166.75994 | AO16: 12 | AP16: =AR15/2+AQ15 -> 5 | AQ16: =$C$6 -> 3.5 | AR16: 3 | AS16: =$F$6 -> 98.84913 | AT16: =(AS16/AO16)*((ATAN((AR16+AQ16-AP16)/AO16)+ATAN(AP16-AQ16)/AO16)) -> 1.6990063 | AU16: =$H$6*AT16^$I$6 -> 2599.6552 | AV16: =$B$8 -> 667.03978 | AW16: =AV16/4 -> 166.75994 | AY16: 12 | AZ16: =BB15/2+BA15 -> 12 | BA16: =$B$6-BB16 -> 11.5 | BB16: 1 | BC16: =$F$6 -> 98.84913 | BD16: =(BC16/AY16)*((ATAN((BB16+BA16-AZ16)/AY16)+ATAN(AZ16-BA16)/AY16)) -> 0.66129969 | BE16: =$H$6*BD16^$I$6 -> 428.75 | BF16: =$B$8 -> 667.03978 | BG16: =BF16/4 -> 166.75994
U17: 13 | V17: =X16/2+W16 -> 8 | W17: =$C$6 -> 3.5 | X17: =X16 -> 9 | Y17: =$F$6 -> 98.84913 | Z17: =(Y17/U17)*((ATAN((X17+W17-V17)/U17)+ATAN(V17-W17)/U17)) -> 3.3247836 | AA17: =$H$6*Z17^$I$6 -> 9371.5498 | AB17: =$B$8 -> 667.03978 | AC17: =AB17/4 -> 166.75994 | AE17: 13 | AF17: =AH16/2+AG16 -> 10 | AG17: =$B$6-AH17 -> 7.5 | AH17: 5 | AI17: =$F$6 -> 98.84913 | AJ17: =(AI17/AE17)*((ATAN((AH17+AG17-AF17)/AE17)+ATAN(AF17-AG17)/AE17)) -> 2.1408368 | AK17: =$H$6*AJ17^$I$6 -> 4042.5738 | AL17: =$B$8 -> 667.03978 | AM17: =AL17/4 -> 166.75994 | AO17: 13 | AP17: =AR16/2+AQ16 -> 5 | AQ17: =$C$6 -> 3.5 | AR17: 3 | AS17: =$F$6 -> 98.84913 | AT17: =(AS17/AO17)*((ATAN((AR17+AQ17-AP17)/AO17)+ATAN(AP17-AQ17)/AO17)) -> 1.4483384 | AU17: =$H$6*AT17^$I$6 -> 1916.4837 | AV17: =$B$8 -> 667.03978 | AW17: =AV17/4 -> 166.75994 | AY17: 13 | AZ17: =BB16/2+BA16 -> 12 | BA17: =$B$6-BB17 -> 11.5 | BB17: 1 | BC17: =$F$6 -> 98.84913 | BD17: =(BC17/AY17)*((ATAN((BB17+BA17-AZ17)/AY17)+ATAN(AZ17-BA17)/AY17)) -> 0.56349928 | BE17: =$H$6*BD17^$I$6 -> 315.8273 | BF17: =$B$8 -> 667.03978 | BG17: =BF17/4 -> 166.75994
U18: 14 | V18: =X17/2+W17 -> 8 | W18: =$C$6 -> 3.5 | X18: =X17 -> 9 | Y18: =$F$6 -> 98.84913 | Z18: =(Y18/U18)*((ATAN((X18+W18-V18)/U18)+ATAN(V18-W18)/U18)) -> 2.8777722 | AA18: =$H$6*Z18^$I$6 -> 7112.808 | AB18: =$B$8 -> 667.03978 | AC18: =AB18/4 -> 166.75994 | AE18: 14 | AF18: =AH17/2+AG17 -> 10 | AG18: =$B$6-AH18 -> 7.5 | AH18: 5 | AI18: =$F$6 -> 98.84913 | AJ18: =(AI18/AE18)*((ATAN((AH18+AG18-AF18)/AE18)+ATAN(AF18-AG18)/AE18)) -> 1.8479814 | AK18: =$H$6*AJ18^$I$6 -> 3052.3601 | AL18: =$B$8 -> 667.03978 | AM18: =AL18/4 -> 166.75994 | AO18: 14 | AP18: =AR17/2+AQ17 -> 5 | AQ18: =$C$6 -> 3.5 | AR18: 3 | AS18: =$F$6 -> 98.84913 | AT18: =(AS18/AO18)*((ATAN((AR18+AQ18-AP18)/AO18)+ATAN(AP18-AQ18)/AO18)) -> 1.2492781 | AU18: =$H$6*AT18^$I$6 -> 1444.9814 | AV18: =$B$8 -> 667.03978 | AW18: =AV18/4 -> 166.75994 | AY18: 14 | AZ18: =BB17/2+BA17 -> 12 | BA18: =$B$6-BB18 -> 11.5 | BB18: 1 | BC18: =$F$6 -> 98.84913 | BD18: =(BC18/AY18)*((ATAN((BB18+BA18-AZ18)/AY18)+ATAN(AZ18-BA18)/AY18)) -> 0.48589148 | BE18: =$H$6*BD18^$I$6 -> 237.97612 | BF18: =$B$8 -> 667.03978 | BG18: =BF18/4 -> 166.75994
U19: 15 | V19: =X18/2+W18 -> 8 | W19: =$C$6 -> 3.5 | X19: =X18 -> 9 | Y19: =$F$6 -> 98.84913 | Z19: =(Y19/U19)*((ATAN((X19+W19-V19)/U19)+ATAN(V19-W19)/U19)) -> 2.5147128 | AA19: =$H$6*Z19^$I$6 -> 5497.6383 | AB19: =$B$8 -> 667.03978 | AC19: =AB19/4 -> 166.75994 | AE19: 15 | AF19: =AH18/2+AG18 -> 10 | AG19: =$B$6-AH19 -> 7.5 | AH19: 5 | AI19: =$F$6 -> 98.84913 | AJ19: =(AI19/AE19)*((ATAN((AH19+AG19-AF19)/AE19)+ATAN(AF19-AG19)/AE19)) -> 1.6112497 | AK19: =$H$6*AJ19^$I$6 -> 2349.2236 | AL19: =$B$8 -> 667.03978 | AM19: =AL19/4 -> 166.75994 | AO19: 15 | AP19: =AR18/2+AQ18 -> 5 | AQ19: =$C$6 -> 3.5 | AR19: 3 | AS19: =$F$6 -> 98.84913 | AT19: =(AS19/AO19)*((ATAN((AR19+AQ19-AP19)/AO19)+ATAN(AP19-AQ19)/AO19)) -> 1.0885809 | AU19: =$H$6*AT19^$I$6 -> 1110.8292 | AV19: =$B$8 -> 667.03978 | AW19: =AV19/4 -> 166.75994 | AY19: 15 | AZ19: =BB18/2+BA18 -> 12 | BA19: =$B$6-BB19 -> 11.5 | BB19: 1 | BC19: =$F$6 -> 98.84913 | BD19: =(BC19/AY19)*((ATAN((BB19+BA19-AZ19)/AY19)+ATAN(AZ19-BA19)/AY19)) -> 0.42327749 | BE19: =$H$6*BD19^$I$6 -> 182.85103 | BF19: =$B$8 -> 667.03978 | BG19: =BF19/4 -> 166.75994
U20: 16 | V20: =X19/2+W19 -> 8 | W20: =$C$6 -> 3.5 | X20: =X19 -> 9 | Y20: =$F$6 -> 98.84913 | Z20: =(Y20/U20)*((ATAN((X20+W20-V20)/U20)+ATAN(V20-W20)/U20)) -> 2.215922 | AA20: =$H$6*Z20^$I$6 -> 4317.6993 | AB20: =$B$8 -> 667.03978 | AC20: =AB20/4 -> 166.75994 | AE20: 16 | AF20: =AH19/2+AG19 -> 10 | AG20: =$B$6-AH20 -> 7.5 | AH20: 5 | AI20: =$F$6 -> 98.84913 | AJ20: =(AI20/AE20)*((ATAN((AH20+AG20-AF20)/AE20)+ATAN(AF20-AG20)/AE20)) -> 1.4171868 | AK20: =$H$6*AJ20^$I$6 -> 1838.5231 | AL20: =$B$8 -> 667.03978 | AM20: =AL20/4 -> 166.75994 | AO20: 16 | AP20: =AR19/2+AQ19 -> 5 | AQ20: =$C$6 -> 3.5 | AR20: 3 | AS20: =$F$6 -> 98.84913 | AT20: =(AS20/AO20)*((ATAN((AR20+AQ20-AP20)/AO20)+ATAN(AP20-AQ20)/AO20)) -> 0.95699172 | AU20: =$H$6*AT20^$I$6 -> 868.51629 | AV20: =$B$8 -> 667.03978 | AW20: =AV20/4 -> 166.75994 | AY20: 16 | AZ20: =BB19/2+BA19 -> 12 | BA20: =$B$6-BB20 -> 11.5 | BB20: 1 | BC20: =$F$6 -> 98.84913 | BD20: =(BC20/AY20)*((ATAN((BB20+BA20-AZ20)/AY20)+ATAN(AZ20-BA20)/AY20)) -> 0.37202988 | BE20: =$H$6*BD20^$I$6 -> 142.90485 | BF20: =$B$8 -> 667.03978 | BG20: =BF20/4 -> 166.75994
... U46: 42 | V46: =X45/2+W45 -> 8 | W46: =$C$6 -> 3.5 | X46: =X45 -> 9 | Y46: =$F$6 -> 98.84913 | Z46: =(Y46/U46)*((ATAN((X46+W46-V46)/U46)+ATAN(V46-W46)/U46)) -> 0.32697687 | AA46: =$H$6*Z46^$I$6 -> 111.67884 | AB46: =$B$8 -> 667.03978 | AC46: =AB46/4 -> 166.75994 | AE46: 42 | AF46: =AH45/2+AG45 -> 10 | AG46: =$B$6-AH46 -> 7.5 | AH46: 5 | AI46: =$F$6 -> 98.84913 | AJ46: =(AI46/AE46)*((ATAN((AH46+AG46-AF46)/AE46)+ATAN(AF46-AG46)/AE46)) -> 0.20662739 | AK46: =$H$6*AJ46^$I$6 -> 46.47851 | AL46: =$B$8 -> 667.03978 | AM46: =AL46/4 -> 166.75994 | AO46: 42 | AP46: =AR45/2+AQ45 -> 5 | AQ46: =$C$6 -> 3.5 | AR46: 3 | AS46: =$F$6 -> 98.84913 | AT46: =(AS46/AO46)*((ATAN((AR46+AQ46-AP46)/AO46)+ATAN(AP46-AQ46)/AO46)) -> 0.13909241 | AU46: =$H$6*AT46^$I$6 -> 21.824931 | AV46: =$B$8 -> 667.03978 | AW46: =AV46/4 -> 166.75994 | AY46: 42 | AZ46: =BB45/2+BA45 -> 12 | BA46: =$B$6-BB46 -> 11.5 | BB46: 1 | BC46: =$F$6 -> 98.84913 | BD46: =(BC46/AY46)*((ATAN((BB46+BA46-AZ46)/AY46)+ATAN(AZ46-BA46)/AY46)) -> 0.053998522 | BE46: =$H$6*BD46^$I$6 -> 3.581729 | BF46: =$B$8 -> 667.03978 | BG46: =BF46/4 -> 166.75994
B47: Longitud de Carga | D47: =B6-C6 -> 9 | E47: 8 | F47: 7 | G47: 6 | H47: 5 | I47: 4 | J47: 3 | K47: 2 | L47: 1 | U47: 43 | V47: =X46/2+W46 -> 8 | W47: =$C$6 -> 3.5 | X47: =X46 -> 9 | Y47: =$F$6 -> 98.84913 | Z47: =(Y47/U47)*((ATAN((X47+W47-V47)/U47)+ATAN(V47-W47)/U47)) -> 0.31198724 | AA47: =$H$6*Z47^$I$6 -> 102.10446 | AB47: =$B$8 -> 667.03978 | AC47: =AB47/4 -> 166.75994 | AE47: 43 | AF47: =AH46/2+AG46 -> 10 | AG47: =$B$6-AH47 -> 7.5 | AH47: 5 | AI47: =$F$6 -> 98.84913 | AJ47: =(AI47/AE47)*((ATAN((AH47+AG47-AF47)/AE47)+ATAN(AF47-AG47)/AE47)) -> 0.19713579 | AK47: =$H$6*AJ47^$I$6 -> 42.485956 | AL47: =$B$8 -> 667.03978 | AM47: =AL47/4 -> 166.75994 | AO47: 43 | AP47: =AR46/2+AQ46 -> 5 | AQ47: =$C$6 -> 3.5 | AR47: 3 | AS47: =$F$6 -> 98.84913 | AT47: =(AS47/AO47)*((ATAN((AR47+AQ47-AP47)/AO47)+ATAN(AP47-AQ47)/AO47)) -> 0.13269978 | AU47: =$H$6*AT47^$I$6 -> 19.949199 | AV47: =$B$8 -> 667.03978 | AW47: =AV47/4 -> 166.75994 | AY47: 43 | AZ47: =BB46/2+BA46 -> 12 | BA47: =$B$6-BB47 -> 11.5 | BB47: 1 | BC47: =$F$6 -> 98.84913 | BD47: =(BC47/AY47)*((ATAN((BB47+BA47-AZ47)/AY47)+ATAN(AZ47-BA47)/AY47)) -> 0.051516225 | BE47: =$H$6*BD47^$I$6 -> 3.2738324 | BF47: =$B$8 -> 667.03978 | BG47: =BF47/4 -> 166.75994
D48: =D47*$F$6 -> 889.64217 | E48: =E47*$F$6 -> 790.79304 | F48: =F47*$F$6 -> 691.94391 | G48: =G47*$F$6 -> 593.09478 | H48: =H47*$F$6 -> 494.24565 | I48: =I47*$F$6 -> 395.39652 | J48: =J47*$F$6 -> 296.54739 | K48: =K47*$F$6 -> 197.69826 | L48: =L47*$F$6 -> 98.84913 | U48: 44 | V48: =X47/2+W47 -> 8 | W48: =$C$6 -> 3.5 | X48: =X47 -> 9 | Y48: =$F$6 -> 98.84913 | Z48: =(Y48/U48)*((ATAN((X48+W48-V48)/U48)+ATAN(V48-W48)/U48)) -> 0.29800437 | AA48: =$H$6*Z48^$I$6 -> 93.542414 | AB48: =$B$8 -> 667.03978 | AC48: =AB48/4 -> 166.75994 | AE48: 44 | AF48: =AH47/2+AG47 -> 10 | AG48: =$B$6-AH48 -> 7.5 | AH48: 5 | AI48: =$F$6 -> 98.84913 | AJ48: =(AI48/AE48)*((ATAN((AH48+AG48-AF48)/AE48)+ATAN(AF48-AG48)/AE48)) -> 0.18828333 | AK48: =$H$6*AJ48^$I$6 -> 38.916523 | AL48: =$B$8 -> 667.03978 | AM48: =AL48/4 -> 166.75994 | AO48: 44 | AP48: =AR47/2+AQ47 -> 5 | AQ48: =$C$6 -> 3.5 | AR48: 3 | AS48: =$F$6 -> 98.84913 | AT48: =(AS48/AO48)*((ATAN((AR48+AQ48-AP48)/AO48)+ATAN(AP48-AQ48)/AO48)) -> 0.12673791 | AU48: =$H$6*AT48^$I$6 -> 18.272369 | AV48: =$B$8 -> 667.03978 | AW48: =AV48/4 -> 166.75994 | AY48: 44 | AZ48: =BB47/2+BA47 -> 12 | BA48: =$B$6-BB48 -> 11.5 | BB48: 1 | BC48: =$F$6 -> 98.84913 | BD48: =(BC48/AY48)*((ATAN((BB48+BA48-AZ48)/AY48)+ATAN(AZ48-BA48)/AY48)) -> 0.04920124 | BE48: =$H$6*BD48^$I$6 -> 2.9985935 | BF48: =$B$8 -> 667.03978 | BG48: =BF48/4 -> 166.75994
U49: 45 | V49: =X48/2+W48 -> 8 | W49: =$C$6 -> 3.5 | X49: =X48 -> 9 | Y49: =$F$6 -> 98.84913 | Z49: =(Y49/U49)*((ATAN((X49+W49-V49)/U49)+ATAN(V49-W49)/U49)) -> 0.28494015 | AA49: =$H$6*Z49^$I$6 -> 85.86631 | AB49: =$B$8 -> 667.03978 | AC49: =AB49/4 -> 166.75994 | AE49: 45 | AF49: =AH48/2+AG48 -> 10 | AG49: =$B$6-AH49 -> 7.5 | AH49: 5 | AI49: =$F$6 -> 98.84913 | AJ49: =(AI49/AE49)*((ATAN((AH49+AG49-AF49)/AE49)+ATAN(AF49-AG49)/AE49)) -> 0.18001392 | AK49: =$H$6*AJ49^$I$6 -> 35.717245 | AL49: =$B$8 -> 667.03978 | AM49: =AL49/4 -> 166.75994 | AO49: 45 | AP49: =AR48/2+AQ48 -> 5 | AQ49: =$C$6 -> 3.5 | AR49: 3 | AS49: =$F$6 -> 98.84913 | AT49: =(AS49/AO49)*((ATAN((AR49+AQ49-AP49)/AO49)+ATAN(AP49-AQ49)/AO49)) -> 0.12116895 | AU49: =$H$6*AT49^$I$6 -> 16.769526 | AV49: =$B$8 -> 667.03978 | AW49: =AV49/4 -> 166.75994 | AY49: 45 | AZ49: =BB48/2+BA48 -> 12 | BA49: =$B$6-BB49 -> 11.5 | BB49: 1 | BC49: =$F$6 -> 98.84913 | BD49: =(BC49/AY49)*((ATAN((BB49+BA49-AZ49)/AY49)+ATAN(AZ49-BA49)/AY49)) -> 0.047038861 | BE49: =$H$6*BD49^$I$6 -> 2.7519202 | BF49: =$B$8 -> 667.03978 | BG49: =BF49/4 -> 166.75994
U50: 46 | V50: =X49/2+W49 -> 8 | W50: =$C$6 -> 3.5 | X50: =X49 -> 9 | Y50: =$F$6 -> 98.84913 | Z50: =(Y50/U50)*((ATAN((X50+W50-V50)/U50)+ATAN(V50-W50)/U50)) -> 0.27271589 | AA50: =$H$6*Z50^$I$6 -> 78.967845 | AB50: =$B$8 -> 667.03978 | AC50: =AB50/4 -> 166.75994 | AE50: 46 | AF50: =AH49/2+AG49 -> 10 | AG50: =$B$6-AH50 -> 7.5 | AH50: 5 | AI50: =$F$6 -> 98.84913 | AJ50: =(AI50/AE50)*((ATAN((AH50+AG50-AF50)/AE50)+ATAN(AF50-AG50)/AE50)) -> 0.17227744 | AK50: =$H$6*AJ50^$I$6 -> 32.842759 | AL50: =$B$8 -> 667.03978 | AM50: =AL50/4 -> 166.75994 | AO50: 46 | AP50: =AR49/2+AQ49 -> 5 | AQ50: =$C$6 -> 3.5 | AR50: 3 | AS50: =$F$6 -> 98.84913 | AT50: =(AS50/AO50)*((ATAN((AR50+AQ50-AP50)/AO50)+ATAN(AP50-AQ50)/AO50)) -> 0.11595911 | AU50: =$H$6*AT50^$I$6 -> 15.419335 | AV50: =$B$8 -> 667.03978 | AW50: =AV50/4 -> 166.75994 | AY50: 46 | AZ50: =BB49/2+BA49 -> 12 | BA50: =$B$6-BB50 -> 11.5 | BB50: 1 | BC50: =$F$6 -> 98.84913 | BD50: =(BC50/AY50)*((ATAN((BB50+BA50-AZ50)/AY50)+ATAN(AZ50-BA50)/AY50)) -> 0.045015965 | BE50: =$H$6*BD50^$I$6 -> 2.5303085 | BF50: =$B$8 -> 667.03978 | BG50: =BF50/4 -> 166.75994
U51: 47 | V51: =X50/2+W50 -> 8 | W51: =$C$6 -> 3.5 | X51: =X50 -> 9 | Y51: =$F$6 -> 98.84913 | Z51: =(Y51/U51)*((ATAN((X51+W51-V51)/U51)+ATAN(V51-W51)/U51)) -> 0.26126116 | AA51: =$H$6*Z51^$I$6 -> 72.753903 | AB51: =$B$8 -> 667.03978 | AC51: =AB51/4 -> 166.75994 | AE51: 47 | AF51: =AH50/2+AG50 -> 10 | AG51: =$B$6-AH51 -> 7.5 | AH51: 5 | AI51: =$F$6 -> 98.84913 | AJ51: =(AI51/AE51)*((ATAN((AH51+AG51-AF51)/AE51)+ATAN(AF51-AG51)/AE51)) -> 0.1650291 | AK51: =$H$6*AJ51^$I$6 -> 30.25408 | AL51: =$B$8 -> 667.03978 | AM51: =AL51/4 -> 166.75994 | AO51: 47 | AP51: =AR50/2+AQ50 -> 5 | AQ51: =$C$6 -> 3.5 | AR51: 3 | AS51: =$F$6 -> 98.84913 | AT51: =(AS51/AO51)*((ATAN((AR51+AQ51-AP51)/AO51)+ATAN(AP51-AQ51)/AO51)) -> 0.11107817 | AU51: =$H$6*AT51^$I$6 -> 14.203462 | AV51: =$B$8 -> 667.03978 | AW51: =AV51/4 -> 166.75994 | AY51: 47 | AZ51: =BB50/2+BA50 -> 12 | BA51: =$B$6-BB51 -> 11.5 | BB51: 1 | BC51: =$F$6 -> 98.84913 | BD51: =(BC51/AY51)*((ATAN((BB51+BA51-AZ51)/AY51)+ATAN(AZ51-BA51)/AY51)) -> 0.043120807 | BE51: =$H$6*BD51^$I$6 -> 2.3307478 | BF51: =$B$8 -> 667.03978 | BG51: =BF51/4 -> 166.75994
U52: 48 | V52: =X51/2+W51 -> 8 | W52: =$C$6 -> 3.5 | X52: =X51 -> 9 | Y52: =$F$6 -> 98.84913 | Z52: =(Y52/U52)*((ATAN((X52+W52-V52)/U52)+ATAN(V52-W52)/U52)) -> 0.25051274 | AA52: =$H$6*Z52^$I$6 -> 67.144165 | AB52: =$B$8 -> 667.03978 | AC52: =AB52/4 -> 166.75994 | AE52: 48 | AF52: =AH51/2+AG51 -> 10 | AG52: =$B$6-AH52 -> 7.5 | AH52: 5 | AI52: =$F$6 -> 98.84913 | AJ52: =(AI52/AE52)*((ATAN((AH52+AG52-AF52)/AE52)+ATAN(AF52-AG52)/AE52)) -> 0.15822867 | AK52: =$H$6*AJ52^$I$6 -> 27.917597 | AL52: =$B$8 -> 667.03978 | AM52: =AL52/4 -> 166.75994 | AO52: 48 | AP52: =AR51/2+AQ51 -> 5 | AQ52: =$C$6 -> 3.5 | AR52: 3 | AS52: =$F$6 -> 98.84913 | AT52: =(AS52/AO52)*((ATAN((AR52+AQ52-AP52)/AO52)+ATAN(AP52-AQ52)/AO52)) -> 0.10649903 | AU52: =$H$6*AT52^$I$6 -> 13.106101 | AV52: =$B$8 -> 667.03978 | AW52: =AV52/4 -> 166.75994 | AY52: 48 | AZ52: =BB51/2+BA51 -> 12 | BA52: =$B$6-BB52 -> 11.5 | BB52: 1 | BC52: =$F$6 -> 98.84913 | BD52: =(BC52/AY52)*((ATAN((BB52+BA52-AZ52)/AY52)+ATAN(AZ52-BA52)/AY52)) -> 0.041342856 | BE52: =$H$6*BD52^$I$6 -> 2.1506426 | BF52: =$B$8 -> 667.03978 | BG52: =BF52/4 -> 166.75994
U53: 49 | V53: =X52/2+W52 -> 8 | W53: =$C$6 -> 3.5 | X53: =X52 -> 9 | Y53: =$F$6 -> 98.84913 | Z53: =(Y53/U53)*((ATAN((X53+W53-V53)/U53)+ATAN(V53-W53)/U53)) -> 0.24041377 | AA53: =$H$6*Z53^$I$6 -> 62.069131 | AB53: =$B$8 -> 667.03978 | AC53: =AB53/4 -> 166.75994 | AE53: 49 | AF53: =AH52/2+AG52 -> 10 | AG53: =$B$6-AH53 -> 7.5 | AH53: 5 | AI53: =$F$6 -> 98.84913 | AJ53: =(AI53/AE53)*((ATAN((AH53+AG53-AF53)/AE53)+ATAN(AF53-AG53)/AE53)) -> 0.15184001 | AK53: =$H$6*AJ53^$I$6 -> 25.804237 | AL53: =$B$8 -> 667.03978 | AM53: =AL53/4 -> 166.75994 | AO53: 49 | AP53: =AR52/2+AQ52 -> 5 | AQ53: =$C$6 -> 3.5 | AR53: 3 | AS53: =$F$6 -> 98.84913 | AT53: =(AS53/AO53)*((ATAN((AR53+AQ53-AP53)/AO53)+ATAN(AP53-AQ53)/AO53)) -> 0.1021973 | AU53: =$H$6*AT53^$I$6 -> 12.113583 | AV53: =$B$8 -> 667.03978 | AW53: =AV53/4 -> 166.75994 | AY53: 49 | AZ53: =BB52/2+BA52 -> 12 | BA53: =$B$6-BB53 -> 11.5 | BB53: 1 | BC53: =$F$6 -> 98.84913 | BD53: =(BC53/AY53)*((ATAN((BB53+BA53-AZ53)/AY53)+ATAN(AZ53-BA53)/AY53)) -> 0.039672642 | BE53: =$H$6*BD53^$I$6 -> 1.9877482 | BF53: =$B$8 -> 667.03978 | BG53: =BF53/4 -> 166.75994
U54: 50 | V54: =X53/2+W53 -> 8 | W54: =$C$6 -> 3.5 | X54: =X53 -> 9 | Y54: =$F$6 -> 98.84913 | Z54: =(Y54/U54)*((ATAN((X54+W54-V54)/U54)+ATAN(V54-W54)/U54)) -> 0.23091299 | AA54: =$H$6*Z54^$I$6 -> 57.468483 | AB54: =$B$8 -> 667.03978 | AC54: =AB54/4 -> 166.75994 | AE54: 50 | AF54: =AH53/2+AG53 -> 10 | AG54: =$B$6-AH54 -> 7.5 | AH54: 5 | AI54: =$F$6 -> 98.84913 | AJ54: =(AI54/AE54)*((ATAN((AH54+AG54-AF54)/AE54)+ATAN(AF54-AG54)/AE54)) -> 0.14583053 | AK54: =$H$6*AJ54^$I$6 -> 23.888775 | AL54: =$B$8 -> 667.03978 | AM54: =AL54/4 -> 166.75994 | AO54: 50 | AP54: =AR53/2+AQ53 -> 5 | AQ54: =$C$6 -> 3.5 | AR54: 3 | AS54: =$F$6 -> 98.84913 | AT54: =(AS54/AO54)*((ATAN((AR54+AQ54-AP54)/AO54)+ATAN(AP54-AQ54)/AO54)) -> 0.098151016 | AU54: =$H$6*AT54^$I$6 -> 11.214048 | AV54: =$B$8 -> 667.03978 | AW54: =AV54/4 -> 166.75994 | AY54: 50 | AZ54: =BB53/2+BA53 -> 12 | BA54: =$B$6-BB54 -> 11.5 | BB54: 1 | BC54: =$F$6 -> 98.84913 | BD54: =(BC54/AY54)*((ATAN((BB54+BA54-AZ54)/AY54)+ATAN(AZ54-BA54)/AY54)) -> 0.038101632 | BE54: =$H$6*BD54^$I$6 -> 1.8401176 | BF54: =$B$8 -> 667.03978 | BG54: =BF54/4 -> 166.75994
U55: 51 | V55: =X54/2+W54 -> 8 | W55: =$C$6 -> 3.5 | X55: =X54 -> 9 | Y55: =$F$6 -> 98.84913 | Z55: =(Y55/U55)*((ATAN((X55+W55-V55)/U55)+ATAN(V55-W55)/U55)) -> 0.22196412 | AA55: =$H$6*Z55^$I$6 -> 53.289722 | AB55: =$B$8 -> 667.03978 | AC55: =AB55/4 -> 166.75994 | AE55: 51 | AF55: =AH54/2+AG54 -> 10 | AG55: =$B$6-AH55 -> 7.5 | AH55: 5 | AI55: =$F$6 -> 98.84913 | AJ55: =(AI55/AE55)*((ATAN((AH55+AG55-AF55)/AE55)+ATAN(AF55-AG55)/AE55)) -> 0.14017082 | AK55: =$H$6*AJ55^$I$6 -> 22.149268 | AL55: =$B$8 -> 667.03978 | AM55: =AL55/4 -> 166.75994 | AO55: 51 | AP55: =AR54/2+AQ54 -> 5 | AQ55: =$C$6 -> 3.5 | AR55: 3 | AS55: =$F$6 -> 98.84913 | AT55: =(AS55/AO55)*((ATAN((AR55+AQ55-AP55)/AO55)+ATAN(AP55-AQ55)/AO55)) -> 0.094340356 | AU55: =$H$6*AT55^$I$6 -> 10.397181 | AV55: =$B$8 -> 667.03978 | AW55: =AV55/4 -> 166.75994 | AY55: 51 | AZ55: =BB54/2+BA54 -> 12 | BA55: =$B$6-BB55 -> 11.5 | BB55: 1 | BC55: =$F$6 -> 98.84913 | BD55: =(BC55/AY55)*((ATAN((BB55+BA55-AZ55)/AY55)+ATAN(AZ55-BA55)/AY55)) -> 0.036622124 | BE55: =$H$6*BD55^$I$6 -> 1.7060568 | BF55: =$B$8 -> 667.03978 | BG55: =BF55/4 -> 166.75994
U56: 52 | V56: =X55/2+W55 -> 8 | W56: =$C$6 -> 3.5 | X56: =X55 -> 9 | Y56: =$F$6 -> 98.84913 | Z56: =(Y56/U56)*((ATAN((X56+W56-V56)/U56)+ATAN(V56-W56)/U56)) -> 0.21352524 | AA56: =$H$6*Z56^$I$6 -> 49.487027 | AB56: =$B$8 -> 667.03978 | AC56: =AB56/4 -> 166.75994 | AE56: 52 | AF56: =AH55/2+AG55 -> 10 | AG56: =$B$6-AH56 -> 7.5 | AH56: 5 | AI56: =$F$6 -> 98.84913 | AJ56: =(AI56/AE56)*((ATAN((AH56+AG56-AF56)/AE56)+ATAN(AF56-AG56)/AE56)) -> 0.13483425 | AK56: =$H$6*AJ56^$I$6 -> 20.566566 | AL56: =$B$8 -> 667.03978 | AM56: =AL56/4 -> 166.75994 | AO56: 52 | AP56: =AR55/2+AQ55 -> 5 | AQ56: =$C$6 -> 3.5 | AR56: 3 | AS56: =$F$6 -> 98.84913 | AT56: =(AS56/AO56)*((ATAN((AR56+AQ56-AP56)/AO56)+ATAN(AP56-AQ56)/AO56)) -> 0.090747372 | AU56: =$H$6*AT56^$I$6 -> 9.6539799 | AV56: =$B$8 -> 667.03978 | AW56: =AV56/4 -> 166.75994 | AY56: 52 | AZ56: =BB55/2+BA55 -> 12 | BA56: =$B$6-BB56 -> 11.5 | BB56: 1 | BC56: =$F$6 -> 98.84913 | BD56: =(BC56/AY56)*((ATAN((BB56+BA56-AZ56)/AY56)+ATAN(AZ56-BA56)/AY56)) -> 0.035227147 | BE56: =$H$6*BD56^$I$6 -> 1.584088 | BF56: =$B$8 -> 667.03978 | BG56: =BF56/4 -> 166.75994
U57: 53 | V57: =X56/2+W56 -> 8 | W57: =$C$6 -> 3.5 | X57: =X56 -> 9 | Y57: =$F$6 -> 98.84913 | Z57: =(Y57/U57)*((ATAN((X57+W57-V57)/U57)+ATAN(V57-W57)/U57)) -> 0.20555835 | AA57: =$H$6*Z57^$I$6 -> 46.020297 | AB57: =$B$8 -> 667.03978 | AC57: =AB57/4 -> 166.75994 | AE57: 53 | AF57: =AH56/2+AG56 -> 10 | AG57: =$B$6-AH57 -> 7.5 | AH57: 5 | AI57: =$F$6 -> 98.84913 | AJ57: =(AI57/AE57)*((ATAN((AH57+AG57-AF57)/AE57)+ATAN(AF57-AG57)/AE57)) -> 0.12979669 | AK57: =$H$6*AJ57^$I$6 -> 19.123918 | AL57: =$B$8 -> 667.03978 | AM57: =AL57/4 -> 166.75994 | AO57: 53 | AP57: =AR56/2+AQ56 -> 5 | AQ57: =$C$6 -> 3.5 | AR57: 3 | AS57: =$F$6 -> 98.84913 | AT57: =(AS57/AO57)*((ATAN((AR57+AQ57-AP57)/AO57)+ATAN(AP57-AQ57)/AO57)) -> 0.087355795 | AU57: =$H$6*AT57^$I$6 -> 8.9765723 | AV57: =$B$8 -> 667.03978 | AW57: =AV57/4 -> 166.75994 | AY57: 53 | AZ57: =BB56/2+BA56 -> 12 | BA57: =$B$6-BB57 -> 11.5 | BB57: 1 | BC57: =$F$6 -> 98.84913 | BD57: =(BC57/AY57)*((ATAN((BB57+BA57-AZ57)/AY57)+ATAN(AZ57-BA57)/AY57)) -> 0.033910381 | BE57: =$H$6*BD57^$I$6 -> 1.4729186 | BF57: =$B$8 -> 667.03978 | BG57: =BF57/4 -> 166.75994
U58: 54 | V58: =X57/2+W57 -> 8 | W58: =$C$6 -> 3.5 | X58: =X57 -> 9 | Y58: =$F$6 -> 98.84913 | Z58: =(Y58/U58)*((ATAN((X58+W58-V58)/U58)+ATAN(V58-W58)/U58)) -> 0.19802891 | AA58: =$H$6*Z58^$I$6 -> 42.854353 | AB58: =$B$8 -> 667.03978 | AC58: =AB58/4 -> 166.75994 | AE58: 54 | AF58: =AH57/2+AG57 -> 10 | AG58: =$B$6-AH58 -> 7.5 | AH58: 5 | AI58: =$F$6 -> 98.84913 | AJ58: =(AI58/AE58)*((ATAN((AH58+AG58-AF58)/AE58)+ATAN(AF58-AG58)/AE58)) -> 0.12503622 | AK58: =$H$6*AJ58^$I$6 -> 17.806633 | AL58: =$B$8 -> 667.03978 | AM58: =AL58/4 -> 166.75994 | AO58: 54 | AP58: =AR57/2+AQ57 -> 5 | AQ58: =$C$6 -> 3.5 | AR58: 3 | AS58: =$F$6 -> 98.84913 | AT58: =(AS58/AO58)*((ATAN((AR58+AQ58-AP58)/AO58)+ATAN(AP58-AQ58)/AO58)) -> 0.084150851 | AU58: =$H$6*AT58^$I$6 -> 8.3580526 | AV58: =$B$8 -> 667.03978 | AW58: =AV58/4 -> 166.75994 | AY58: 54 | AZ58: =BB57/2+BA57 -> 12 | BA58: =$B$6-BB58 -> 11.5 | BB58: 1 | BC58: =$F$6 -> 98.84913 | BD58: =(BC58/AY58)*((ATAN((BB58+BA58-AZ58)/AY58)+ATAN(AZ58-BA58)/AY58)) -> 0.032666089 | BE58: =$H$6*BD58^$I$6 -> 1.371415 | BF58: =$B$8 -> 667.03978 | BG58: =BF58/4 -> 166.75994
U59: 55 | V59: =X58/2+W58 -> 8 | W59: =$C$6 -> 3.5 | X59: =X58 -> 9 | Y59: =$F$6 -> 98.84913 | Z59: =(Y59/U59)*((ATAN((X59+W59-V59)/U59)+ATAN(V59-W59)/U59)) -> 0.19090548 | AA59: =$H$6*Z59^$I$6 -> 39.958254 | AB59: =$B$8 -> 667.03978 | AC59: =AB59/4 -> 166.75994 | AE59: 55 | AF59: =AH58/2+AG58 -> 10 | AG59: =$B$6-AH59 -> 7.5 | AH59: 5 | AI59: =$F$6 -> 98.84913 | AJ59: =(AI59/AE59)*((ATAN((AH59+AG59-AF59)/AE59)+ATAN(AF59-AG59)/AE59)) -> 0.12053288 | AK59: =$H$6*AJ59^$I$6 -> 16.60179 | AL59: =$B$8 -> 667.03978 | AM59: =AL59/4 -> 166.75994 | AO59: 55 | AP59: =AR58/2+AQ58 -> 5 | AQ59: =$C$6 -> 3.5 | AR59: 3 | AS59: =$F$6 -> 98.84913 | AT59: =(AS59/AO59)*((ATAN((AR59+AQ59-AP59)/AO59)+ATAN(AP59-AQ59)/AO59)) -> 0.081119092 | AU59: =$H$6*AT59^$I$6 -> 7.7923496 | AV59: =$B$8 -> 667.03978 | AW59: =AV59/4 -> 166.75994 | AY59: 55 | AZ59: =BB58/2+BA58 -> 12 | BA59: =$B$6-BB59 -> 11.5 | BB59: 1 | BC59: =$F$6 -> 98.84913 | BD59: =(BC59/AY59)*((ATAN((BB59+BA59-AZ59)/AY59)+ATAN(AZ59-BA59)/AY59)) -> 0.031489047 | BE59: =$H$6*BD59^$I$6 -> 1.2785803 | BF59: =$B$8 -> 667.03978 | BG59: =BF59/4 -> 166.75994
U60: 56 | V60: =X59/2+W59 -> 8 | W60: =$C$6 -> 3.5 | X60: =X59 -> 9 | Y60: =$F$6 -> 98.84913 | Z60: =(Y60/U60)*((ATAN((X60+W60-V60)/U60)+ATAN(V60-W60)/U60)) -> 0.18415942 | AA60: =$H$6*Z60^$I$6 -> 37.304719 | AB60: =$B$8 -> 667.03978 | AC60: =AB60/4 -> 166.75994 | AE60: 56 | AF60: =AH59/2+AG59 -> 10 | AG60: =$B$6-AH60 -> 7.5 | AH60: 5 | AI60: =$F$6 -> 98.84913 | AJ60: =(AI60/AE60)*((ATAN((AH60+AG60-AF60)/AE60)+ATAN(AF60-AG60)/AE60)) -> 0.11626849 | AK60: =$H$6*AJ60^$I$6 -> 15.498005 | AL60: =$B$8 -> 667.03978 | AM60: =AL60/4 -> 166.75994 | AO60: 56 | AP60: =AR59/2+AQ59 -> 5 | AQ60: =$C$6 -> 3.5 | AR60: 3 | AS60: =$F$6 -> 98.84913 | AT60: =(AS60/AO60)*((ATAN((AR60+AQ60-AP60)/AO60)+ATAN(AP60-AQ60)/AO60)) -> 0.078248263 | AU60: =$H$6*AT60^$I$6 -> 7.2741128 | AV60: =$B$8 -> 667.03978 | AW60: =AV60/4 -> 166.75994 | AY60: 56 | AZ60: =BB59/2+BA59 -> 12 | BA60: =$B$6-BB60 -> 11.5 | BB60: 1 | BC60: =$F$6 -> 98.84913 | BD60: =(BC60/AY60)*((ATAN((BB60+BA60-AZ60)/AY60)+ATAN(AZ60-BA60)/AY60)) -> 0.030374494 | BE60: =$H$6*BD60^$I$6 -> 1.1935363 | BF60: =$B$8 -> 667.03978 | BG60: =BF60/4 -> 166.75994
... U63: 59 | V63: =X62/2+W62 -> 8 | W63: =$C$6 -> 3.5 | X63: =X62 -> 9 | Y63: =$F$6 -> 98.84913 | Z63: =(Y63/U63)*((ATAN((X63+W63-V63)/U63)+ATAN(V63-W63)/U63)) -> 0.16593454 | AA63: =$H$6*Z63^$I$6 -> 30.571915 | AB63: =$B$8 -> 667.03978 | AC63: =AB63/4 -> 166.75994 | AE63: 59 | AF63: =AH62/2+AG62 -> 10 | AG63: =$B$6-AH63 -> 7.5 | AH63: 5 | AI63: =$F$6 -> 98.84913 | AJ63: =(AI63/AE63)*((ATAN((AH63+AG63-AF63)/AE63)+ATAN(AF63-AG63)/AE63)) -> 0.10474984 | AK63: =$H$6*AJ63^$I$6 -> 12.698029 | AL63: =$B$8 -> 667.03978 | AM63: =AL63/4 -> 166.75994 | AO63: 59 | AP63: =AR62/2+AQ62 -> 5 | AQ63: =$C$6 -> 3.5 | AR63: 3 | AS63: =$F$6 -> 98.84913 | AT63: =(AS63/AO63)*((ATAN((AR63+AQ63-AP63)/AO63)+ATAN(AP63-AQ63)/AO63)) -> 0.07049413 | AU63: =$H$6*AT63^$I$6 -> 5.9595777 | AV63: =$B$8 -> 667.03978 | AW63: =AV63/4 -> 166.75994 | AY63: 59 | AZ63: =BB62/2+BA62 -> 12 | BA63: =$B$6-BB63 -> 11.5 | BB63: 1 | BC63: =$F$6 -> 98.84913 | BD63: =(BC63/AY63)*((ATAN((BB63+BA63-AZ63)/AY63)+ATAN(AZ63-BA63)/AY63)) -> 0.027364132 | BE63: =$H$6*BD63^$I$6 -> 0.97782324 | BF63: =$B$8 -> 667.03978 | BG63: =BF63/4 -> 166.75994
U64: 60 | V64: =X5/2+W5 -> 8 | W64: =$C$6 -> 3.5 | X64: =X63 -> 9 | Y64: =$F$6 -> 98.84913 | Z64: =(Y64/U64)*((ATAN((X64+W64-V64)/U64)+ATAN(V64-W64)/U64)) -> 0.16045735 | AA64: =$H$6*Z64^$I$6 -> 28.673467 | AB64: =$B$8 -> 667.03978 | AC64: =AB64/4 -> 166.75994 | AE64: 60 | AF64: =AH5/2+AG5 -> 10 | AG64: =$B$6-AH64 -> 7.5 | AH64: 5 | AI64: =$F$6 -> 98.84913 | AJ64: =(AI64/AE64)*((ATAN((AH64+AG64-AF64)/AE64)+ATAN(AF64-AG64)/AE64)) -> 0.10128864 | AK64: =$H$6*AJ64^$I$6 -> 11.908699 | AL64: =$B$8 -> 667.03978 | AM64: =AL64/4 -> 166.75994 | AO64: 60 | AP64: =AR5/2+AQ5 -> 5 | AQ64: =$C$6 -> 3.5 | AR64: 3 | AS64: =$F$6 -> 98.84913 | AT64: =(AS64/AO64)*((ATAN((AR64+AQ64-AP64)/AO64)+ATAN(AP64-AQ64)/AO64)) -> 0.0681642 | AU64: =$H$6*AT64^$I$6 -> 5.5890238 | AV64: =$B$8 -> 667.03978 | AW64: =AV64/4 -> 166.75994 | AY64: 60 | AZ64: =BB5/2+BA5 -> 12 | BA64: =$B$6-BB64 -> 11.5 | BB64: 1 | BC64: =$F$6 -> 98.84913 | BD64: =(BC64/AY64)*((ATAN((BB64+BA64-AZ64)/AY64)+ATAN(AZ64-BA64)/AY64)) -> 0.026459607 | BE64: =$H$6*BD64^$I$6 -> 0.91701746 | BF64: =$B$8 -> 667.03978 | BG64: =BF64/4 -> 166.75994

Sheet ABACO CARGA-DIST
A1: Simulacion de Vibraciones Utilizando Modelo de Homlberg & Persson | T1: K | U1: =$H$6 -> 0 | AC1: K | AD1: =$H$6 -> 0 | AL1: K | AM1: =$H$6 -> 0 | AU1: K | AV1: =$H$6 -> 0
T2: apha | U2: =$I$6 -> 0 | V2: CARGA Vs DISTANCIA@2,400 mm/s | Z2: 8*PPVc | AC2: apha | AD2: =$I$6 -> 0 | AE2: CARGA Vs DISTANCIA@1,200 mm/s | AI2: 4*PPVc | AL2: apha | AM2: =$I$6 -> 0 | AN2: CARGA Vs DISTANCIA@300 mm/s | AR2: 1*PPVc | AU2: apha | AV2: =$I$6 -> 0 | AW2: CARGA Vs DISTANCIA@75 mm/s | BA2: 1/4*PPVc
A4: Diámetro | B4: Longitud | C4: Taco | D4: Explosivo | E4: Densidad | F4: Carga Lineal | G4: Carga/Tal | H4: K | I4: Alfa | T4: 8*PPV | U4: HP | V4: Ro | W4: Kg/m | X4: H | Y4: Xo | Z4: Xs | AA4: Kg/Tal | AC4: 4*PPV | AD4: HP | AE4: Ro | AF4: Kg/m | AG4: H | AH4: Xo | AI4: Xs | AJ4: Kg/Tal | AL4: 1*PPV | AM4: HP | AN4: Ro | AO4: Kg/m | AP4: H | AQ4: Xo | AR4: Xs | AS4: Kg/Tal | AU4: 1/4*PPV | AV4: HP | AW4: Ro | AX4: Kg/m | AY4: H | AZ4: Xo | BA4: Xs | BB4: Kg/Tal
A5: [pulg] | B5: [m] | C5: [m] | E5: [g/t] | F5: [kg/m] | G5: [kg] | T5: =8*$B$8 -> 5336.3182 | U5: =(T5/U1)^(1/U2) | V5: 1 | W5: =$F$6 -> 98.84913 | X5: =2*V5*TAN(($T$5/$U$1)^(1/$U$2)*(V5/(2*W5))) | Y5: =$B$6-X5/2 | Z5: =$B$6-X5 | AA5: =W5*X5 | AC5: =4*$B$8 -> 2668.1591 | AD5: =(AC5/AD1)^(1/AD2) | AE5: 1 | AF5: =$F$6 -> 98.84913 | AG5: =2*AE5*TAN(($AC$5/$AD$1)^(1/$AD$2)*(AE5/(2*AF5))) | AH5: =$B$6-AG5/2 | AI5: =$B$6-AG5 | AJ5: =AF5*AG5 | AL5: =1*$B$8 -> 667.03978 | AM5: =(AL5/AM1)^(1/AM2) | AN5: 1 | AO5: =$F$6 -> 98.84913 | AP5: =2*AN5*TAN(($AL$5/$AM$1)^(1/$AM$2)*(AN5/(2*AO5))) | AQ5: =$B$6-AP5/2 | AR5: =$B$6-AP5 | AS5: =AO5*AP5 | AU5: =0.25*$B$8 -> 166.75994 | AV5: =(AU5/AV1)^(1/AV2) | AW5: 1 | AX5: =$F$6 -> 98.84913 | AY5: =2*AW5*TAN(($AU$5/$AV$1)^(1/$AV$2)*(AW5/(2*AX5))) | AZ5: =$B$6-AY5/2 | BA5: =$B$6-AY5 | BB5: =AX5*AY5
A6: ='Prueba 01'!E71 -> 12.25 | B6: ='Prueba 01'!E72 -> 12.5 | C6: ='Prueba 01'!E73 -> 3.5 | D6: ='Prueba 01'!E74 -> 0 | E6: ='Prueba 01'!E75 -> 1.3 | F6: =(A6*2.54/10)^2/4*3.1415927*10*E6 -> 98.84913 | G6: =F6*(B6-C6) -> 889.64217 | V6: 2 | W6: =$F$6 -> 98.84913 | X6: =2*V6*TAN(($T$5/$U$1)^(1/$U$2)*(V6/(2*W6))) | Y6: =$B$6-X6/2 | Z6: =$B$6-X6 | AA6: =W6*X6 | AE6: 2 | AF6: =$F$6 -> 98.84913 | AG6: =2*AE6*TAN(($AC$5/$AD$1)^(1/$AD$2)*(AE6/(2*AF6))) | AH6: =$B$6-AG6/2 | AI6: =$B$6-AG6 | AJ6: =AF6*AG6 | AN6: 2 | AO6: =$F$6 -> 98.84913 | AP6: =2*AN6*TAN(($AL$5/$AM$1)^(1/$AM$2)*(AN6/(2*AO6))) | AQ6: =$B$6-AP6/2 | AR6: =$B$6-AP6 | AS6: =AO6*AP6 | AW6: 2 | AX6: =$F$6 -> 98.84913 | AY6: =2*AW6*TAN(($AU$5/$AV$1)^(1/$AV$2)*(AW6/(2*AX6))) | AZ6: =$B$6-AY6/2 | BA6: =$B$6-AY6 | BB6: =AX6*AY6
V7: 3 | W7: =$F$6 -> 98.84913 | X7: =2*V7*TAN(($T$5/$U$1)^(1/$U$2)*(V7/(2*W7))) | Y7: =$B$6-X7/2 | Z7: =$B$6-X7 | AA7: =W7*X7 | AE7: 3 | AF7: =$F$6 -> 98.84913 | AG7: =2*AE7*TAN(($AC$5/$AD$1)^(1/$AD$2)*(AE7/(2*AF7))) | AH7: =$B$6-AG7/2 | AI7: =$B$6-AG7 | AJ7: =AF7*AG7 | AN7: 3 | AO7: =$F$6 -> 98.84913 | AP7: =2*AN7*TAN(($AL$5/$AM$1)^(1/$AM$2)*(AN7/(2*AO7))) | AQ7: =$B$6-AP7/2 | AR7: =$B$6-AP7 | AS7: =AO7*AP7 | AW7: 3 | AX7: =$F$6 -> 98.84913 | AY7: =2*AW7*TAN(($AU$5/$AV$1)^(1/$AV$2)*(AW7/(2*AX7))) | AZ7: =$B$6-AY7/2 | BA7: =$B$6-AY7 | BB7: =AX7*AY7
A8: PPV critico | B8: ='Prueba 01'!L72 -> 667.03978 | V8: 4 | W8: =$F$6 -> 98.84913 | X8: =2*V8*TAN(($T$5/$U$1)^(1/$U$2)*(V8/(2*W8))) | Y8: =$B$6-X8/2 | Z8: =$B$6-X8 | AA8: =W8*X8 | AE8: 4 | AF8: =$F$6 -> 98.84913 | AG8: =2*AE8*TAN(($AC$5/$AD$1)^(1/$AD$2)*(AE8/(2*AF8))) | AH8: =$B$6-AG8/2 | AI8: =$B$6-AG8 | AJ8: =AF8*AG8 | AN8: 4 | AO8: =$F$6 -> 98.84913 | AP8: =2*AN8*TAN(($AL$5/$AM$1)^(1/$AM$2)*(AN8/(2*AO8))) | AQ8: =$B$6-AP8/2 | AR8: =$B$6-AP8 | AS8: =AO8*AP8 | AW8: 4 | AX8: =$F$6 -> 98.84913 | AY8: =2*AW8*TAN(($AU$5/$AV$1)^(1/$AV$2)*(AW8/(2*AX8))) | AZ8: =$B$6-AY8/2 | BA8: =$B$6-AY8 | BB8: =AX8*AY8
V9: 5 | W9: =$F$6 -> 98.84913 | X9: =2*V9*TAN(($T$5/$U$1)^(1/$U$2)*(V9/(2*W9))) | Y9: =$B$6-X9/2 | Z9: =$B$6-X9 | AA9: =W9*X9 | AE9: 5 | AF9: =$F$6 -> 98.84913 | AG9: =2*AE9*TAN(($AC$5/$AD$1)^(1/$AD$2)*(AE9/(2*AF9))) | AH9: =$B$6-AG9/2 | AI9: =$B$6-AG9 | AJ9: =AF9*AG9 | AN9: 5 | AO9: =$F$6 -> 98.84913 | AP9: =2*AN9*TAN(($AL$5/$AM$1)^(1/$AM$2)*(AN9/(2*AO9))) | AQ9: =$B$6-AP9/2 | AR9: =$B$6-AP9 | AS9: =AO9*AP9 | AW9: 5 | AX9: =$F$6 -> 98.84913 | AY9: =2*AW9*TAN(($AU$5/$AV$1)^(1/$AV$2)*(AW9/(2*AX9))) | AZ9: =$B$6-AY9/2 | BA9: =$B$6-AY9 | BB9: =AX9*AY9
V10: 6 | W10: =$F$6 -> 98.84913 | X10: =2*V10*TAN(($T$5/$U$1)^(1/$U$2)*(V10/(2*W10))) | Y10: =$B$6-X10/2 | Z10: =$B$6-X10 | AA10: =W10*X10 | AE10: 6 | AF10: =$F$6 -> 98.84913 | AG10: =2*AE10*TAN(($AC$5/$AD$1)^(1/$AD$2)*(AE10/(2*AF10))) | AH10: =$B$6-AG10/2 | AI10: =$B$6-AG10 | AJ10: =AF10*AG10 | AN10: 6 | AO10: =$F$6 -> 98.84913 | AP10: =2*AN10*TAN(($AL$5/$AM$1)^(1/$AM$2)*(AN10/(2*AO10))) | AQ10: =$B$6-AP10/2 | AR10: =$B$6-AP10 | AS10: =AO10*AP10 | AW10: 6 | AX10: =$F$6 -> 98.84913 | AY10: =2*AW10*TAN(($AU$5/$AV$1)^(1/$AV$2)*(AW10/(2*AX10))) | AZ10: =$B$6-AY10/2 | BA10: =$B$6-AY10 | BB10: =AX10*AY10
V11: 7 | W11: =$F$6 -> 98.84913 | X11: =2*V11*TAN(($T$5/$U$1)^(1/$U$2)*(V11/(2*W11))) | Y11: =$B$6-X11/2 | Z11: =$B$6-X11 | AA11: =W11*X11 | AE11: 7 | AF11: =$F$6 -> 98.84913 | AG11: =2*AE11*TAN(($AC$5/$AD$1)^(1/$AD$2)*(AE11/(2*AF11))) | AH11: =$B$6-AG11/2 | AI11: =$B$6-AG11 | AJ11: =AF11*AG11 | AN11: 7 | AO11: =$F$6 -> 98.84913 | AP11: =2*AN11*TAN(($AL$5/$AM$1)^(1/$AM$2)*(AN11/(2*AO11))) | AQ11: =$B$6-AP11/2 | AR11: =$B$6-AP11 | AS11: =AO11*AP11 | AW11: 7 | AX11: =$F$6 -> 98.84913 | AY11: =2*AW11*TAN(($AU$5/$AV$1)^(1/$AV$2)*(AW11/(2*AX11))) | AZ11: =$B$6-AY11/2 | BA11: =$B$6-AY11 | BB11: =AX11*AY11
V12: 8 | W12: =$F$6 -> 98.84913 | X12: =2*V12*TAN(($T$5/$U$1)^(1/$U$2)*(V12/(2*W12))) | Y12: =$B$6-X12/2 | Z12: =$B$6-X12 | AA12: =W12*X12 | AE12: 8 | AF12: =$F$6 -> 98.84913 | AG12: =2*AE12*TAN(($AC$5/$AD$1)^(1/$AD$2)*(AE12/(2*AF12))) | AH12: =$B$6-AG12/2 | AI12: =$B$6-AG12 | AJ12: =AF12*AG12 | AN12: 8 | AO12: =$F$6 -> 98.84913 | AP12: =2*AN12*TAN(($AL$5/$AM$1)^(1/$AM$2)*(AN12/(2*AO12))) | AQ12: =$B$6-AP12/2 | AR12: =$B$6-AP12 | AS12: =AO12*AP12 | AW12: 8 | AX12: =$F$6 -> 98.84913 | AY12: =2*AW12*TAN(($AU$5/$AV$1)^(1/$AV$2)*(AW12/(2*AX12))) | AZ12: =$B$6-AY12/2 | BA12: =$B$6-AY12 | BB12: =AX12*AY12
V13: 9 | W13: =$F$6 -> 98.84913 | X13: =2*V13*TAN(($T$5/$U$1)^(1/$U$2)*(V13/(2*W13))) | Y13: =$B$6-X13/2 | Z13: =$B$6-X13 | AA13: =W13*X13 | AE13: 9 | AF13: =$F$6 -> 98.84913 | AG13: =2*AE13*TAN(($AC$5/$AD$1)^(1/$AD$2)*(AE13/(2*AF13))) | AH13: =$B$6-AG13/2 | AI13: =$B$6-AG13 | AJ13: =AF13*AG13 | AN13: 9 | AO13: =$F$6 -> 98.84913 | AP13: =2*AN13*TAN(($AL$5/$AM$1)^(1/$AM$2)*(AN13/(2*AO13))) | AQ13: =$B$6-AP13/2 | AR13: =$B$6-AP13 | AS13: =AO13*AP13 | AW13: 9 | AX13: =$F$6 -> 98.84913 | AY13: =2*AW13*TAN(($AU$5/$AV$1)^(1/$AV$2)*(AW13/(2*AX13))) | AZ13: =$B$6-AY13/2 | BA13: =$B$6-AY13 | BB13: =AX13*AY13
V14: 10 | W14: =$F$6 -> 98.84913 | X14: =2*V14*TAN(($T$5/$U$1)^(1/$U$2)*(V14/(2*W14))) | Y14: =$B$6-X14/2 | Z14: =$B$6-X14 | AA14: =W14*X14 | AE14: 10 | AF14: =$F$6 -> 98.84913 | AG14: =2*AE14*TAN(($AC$5/$AD$1)^(1/$AD$2)*(AE14/(2*AF14))) | AH14: =$B$6-AG14/2 | AI14: =$B$6-AG14 | AJ14: =AF14*AG14 | AN14: 10 | AO14: =$F$6 -> 98.84913 | AP14: =2*AN14*TAN(($AL$5/$AM$1)^(1/$AM$2)*(AN14/(2*AO14))) | AQ14: =$B$6-AP14/2 | AR14: =$B$6-AP14 | AS14: =AO14*AP14 | AW14: 10 | AX14: =$F$6 -> 98.84913 | AY14: =2*AW14*TAN(($AU$5/$AV$1)^(1/$AV$2)*(AW14/(2*AX14))) | AZ14: =$B$6-AY14/2 | BA14: =$B$6-AY14 | BB14: =AX14*AY14
V15: 11 | W15: =$F$6 -> 98.84913 | X15: =2*V15*TAN(($T$5/$U$1)^(1/$U$2)*(V15/(2*W15))) | Y15: =$B$6-X15/2 | Z15: =$B$6-X15 | AA15: =W15*X15 | AE15: 11 | AF15: =$F$6 -> 98.84913 | AG15: =2*AE15*TAN(($AC$5/$AD$1)^(1/$AD$2)*(AE15/(2*AF15))) | AH15: =$B$6-AG15/2 | AI15: =$B$6-AG15 | AJ15: =AF15*AG15 | AN15: 11 | AO15: =$F$6 -> 98.84913 | AP15: =2*AN15*TAN(($AL$5/$AM$1)^(1/$AM$2)*(AN15/(2*AO15))) | AQ15: =$B$6-AP15/2 | AR15: =$B$6-AP15 | AS15: =AO15*AP15 | AW15: 11 | AX15: =$F$6 -> 98.84913 | AY15: =2*AW15*TAN(($AU$5/$AV$1)^(1/$AV$2)*(AW15/(2*AX15))) | AZ15: =$B$6-AY15/2 | BA15: =$B$6-AY15 | BB15: =AX15*AY15
V16: 12 | W16: =$F$6 -> 98.84913 | X16: =2*V16*TAN(($T$5/$U$1)^(1/$U$2)*(V16/(2*W16))) | Y16: =$B$6-X16/2 | Z16: =$B$6-X16 | AA16: =W16*X16 | AE16: 12 | AF16: =$F$6 -> 98.84913 | AG16: =2*AE16*TAN(($AC$5/$AD$1)^(1/$AD$2)*(AE16/(2*AF16))) | AH16: =$B$6-AG16/2 | AI16: =$B$6-AG16 | AJ16: =AF16*AG16 | AN16: 12 | AO16: =$F$6 -> 98.84913 | AP16: =2*AN16*TAN(($AL$5/$AM$1)^(1/$AM$2)*(AN16/(2*AO16))) | AQ16: =$B$6-AP16/2 | AR16: =$B$6-AP16 | AS16: =AO16*AP16 | AW16: 12 | AX16: =$F$6 -> 98.84913 | AY16: =2*AW16*TAN(($AU$5/$AV$1)^(1/$AV$2)*(AW16/(2*AX16))) | AZ16: =$B$6-AY16/2 | BA16: =$B$6-AY16 | BB16: =AX16*AY16
V17: 13 | W17: =$F$6 -> 98.84913 | X17: =2*V17*TAN(($T$5/$U$1)^(1/$U$2)*(V17/(2*W17))) | Y17: =$B$6-X17/2 | Z17: =$B$6-X17 | AA17: =W17*X17 | AE17: 13 | AF17: =$F$6 -> 98.84913 | AG17: =2*AE17*TAN(($AC$5/$AD$1)^(1/$AD$2)*(AE17/(2*AF17))) | AH17: =$B$6-AG17/2 | AI17: =$B$6-AG17 | AJ17: =AF17*AG17 | AN17: 13 | AO17: =$F$6 -> 98.84913 | AP17: =2*AN17*TAN(($AL$5/$AM$1)^(1/$AM$2)*(AN17/(2*AO17))) | AQ17: =$B$6-AP17/2 | AR17: =$B$6-AP17 | AS17: =AO17*AP17 | AW17: 13 | AX17: =$F$6 -> 98.84913 | AY17: =2*AW17*TAN(($AU$5/$AV$1)^(1/$AV$2)*(AW17/(2*AX17))) | AZ17: =$B$6-AY17/2 | BA17: =$B$6-AY17 | BB17: =AX17*AY17
V18: 14 | W18: =$F$6 -> 98.84913 | X18: =2*V18*TAN(($T$5/$U$1)^(1/$U$2)*(V18/(2*W18))) | Y18: =$B$6-X18/2 | Z18: =$B$6-X18 | AA18: =W18*X18 | AE18: 14 | AF18: =$F$6 -> 98.84913 | AG18: =2*AE18*TAN(($AC$5/$AD$1)^(1/$AD$2)*(AE18/(2*AF18))) | AH18: =$B$6-AG18/2 | AI18: =$B$6-AG18 | AJ18: =AF18*AG18 | AN18: 14 | AO18: =$F$6 -> 98.84913 | AP18: =2*AN18*TAN(($AL$5/$AM$1)^(1/$AM$2)*(AN18/(2*AO18))) | AQ18: =$B$6-AP18/2 | AR18: =$B$6-AP18 | AS18: =AO18*AP18 | AW18: 14 | AX18: =$F$6 -> 98.84913 | AY18: =2*AW18*TAN(($AU$5/$AV$1)^(1/$AV$2)*(AW18/(2*AX18))) | AZ18: =$B$6-AY18/2 | BA18: =$B$6-AY18 | BB18: =AX18*AY18
V19: 15 | W19: =$F$6 -> 98.84913 | X19: =2*V19*TAN(($T$5/$U$1)^(1/$U$2)*(V19/(2*W19))) | Y19: =$B$6-X19/2 | Z19: =$B$6-X19 | AA19: =W19*X19 | AE19: 15 | AF19: =$F$6 -> 98.84913 | AG19: =2*AE19*TAN(($AC$5/$AD$1)^(1/$AD$2)*(AE19/(2*AF19))) | AH19: =$B$6-AG19/2 | AI19: =$B$6-AG19 | AJ19: =AF19*AG19 | AN19: 15 | AO19: =$F$6 -> 98.84913 | AP19: =2*AN19*TAN(($AL$5/$AM$1)^(1/$AM$2)*(AN19/(2*AO19))) | AQ19: =$B$6-AP19/2 | AR19: =$B$6-AP19 | AS19: =AO19*AP19 | AW19: 15 | AX19: =$F$6 -> 98.84913 | AY19: =2*AW19*TAN(($AU$5/$AV$1)^(1/$AV$2)*(AW19/(2*AX19))) | AZ19: =$B$6-AY19/2 | BA19: =$B$6-AY19 | BB19: =AX19*AY19
V20: 16 | W20: =$F$6 -> 98.84913 | X20: =2*V20*TAN(($T$5/$U$1)^(1/$U$2)*(V20/(2*W20))) | Y20: =$B$6-X20/2 | Z20: =$B$6-X20 | AA20: =W20*X20 | AE20: 16 | AF20: =$F$6 -> 98.84913 | AG20: =2*AE20*TAN(($AC$5/$AD$1)^(1/$AD$2)*(AE20/(2*AF20))) | AH20: =$B$6-AG20/2 | AI20: =$B$6-AG20 | AJ20: =AF20*AG20 | AN20: 16 | AO20: =$F$6 -> 98.84913 | AP20: =2*AN20*TAN(($AL$5/$AM$1)^(1/$AM$2)*(AN20/(2*AO20))) | AQ20: =$B$6-AP20/2 | AR20: =$B$6-AP20 | AS20: =AO20*AP20 | AW20: 16 | AX20: =$F$6 -> 98.84913 | AY20: =2*AW20*TAN(($AU$5/$AV$1)^(1/$AV$2)*(AW20/(2*AX20))) | AZ20: =$B$6-AY20/2 | BA20: =$B$6-AY20 | BB20: =AX20*AY20
